BEGIN:VCALENDAR
VERSION:2.0
PRODID:-//ChamberMaster//Event Calendar 2.0//EN
METHOD:PUBLISH
X-PUBLISHED-TTL:P3D
REFRESH-INTERVAL:P3D
CALSCALE:GREGORIAN
BEGIN:VEVENT
DTSTART:20160603T150000Z
DTEND:20160603T173000Z
X-MICROSOFT-CDO-ALLDAYEVENT:FALSE
SUMMARY:Job Fair
DESCRIPTION:Open to the public and veterans seeking full time or part time employment. Sponsored by Goodwill Industries and IDES.
X-ALT-DESC;FMTTYPE=text/html:Open to the public and veterans seeking full time or part time employment. Sponsored by Goodwill Industries and IDES.&nbsp\;&nbsp\;&nbsp\;&nbsp\;
LOCATION:Goodwill Commons\, 2319 E. War Memorial Dr.\, Peoria IL 61614
UID:e.526.3114
SEQUENCE:3
DTSTAMP:20260424T110646Z
URL:https://business.epcc.org/events/details/job-fair-06-03-2016-3114
END:VEVENT

END:VCALENDAR
