BEGIN:VCALENDAR
VERSION:2.0
PRODID:-//ChamberMaster//Event Calendar 2.0//EN
METHOD:PUBLISH
X-PUBLISHED-TTL:P3D
REFRESH-INTERVAL:P3D
CALSCALE:GREGORIAN
BEGIN:VEVENT
DTSTART:20190620T180000Z
DTEND:20190620T200000Z
X-MICROSOFT-CDO-ALLDAYEVENT:FALSE
SUMMARY:John Butte and the Silver Streak car will be at Wheels O' Time Museum on Thursday
DESCRIPTION:John Butte\, owner of the Model T Ford called the Silver Streak\, will be at Wheels O' Time Museum\, 1710 W Woodside Dr.\, Dunlap Il 61525\, on Thursday\, June 20\, 2019\, from 1 pm to 3 pm.\, to have an informal time speaking and answering questions about the 1926 car in original condition. This is the only place that the car will be on exhibit this year in the Peoria area.\n\n \n\n Six of the Gypsy Coeds drove the car around the country each summer from 1934-42. The car has been in several museums around the country since John located it in 2011. The girls met Henry Ford twice and traveled over 70\,000 miles on nine consecutive summer vacations from 1934-42. John's Mother and aunt were two of the twenty young women who made trips in the historic vehicle.\n\n\n\nWheels O' Time Museum\, 1710 W. Woodside Dr.\, Dunlap Il 61525 (N. Knoxville & W. Woodside Dr.)\n\n \n\nAdmission: $9 adults\, $3.50\, Seniors $8\, ages 3-14. Tour of entire museum of five buildings is included in admission price.\n\n\n\nPh. 243-9020    www.wheelsotime.org  http://www.wheelsotime.org/
X-ALT-DESC;FMTTYPE=text/html:John Butte\, owner of the Model T Ford called the Silver Streak\, will be at Wheels O&rsquo\; Time Museum\, 1710 W Woodside Dr.\, Dunlap Il 61525\, on Thursday\, June 20\, 2019\, from 1 pm to 3 pm.\, to have an informal time speaking and answering questions about the 1926 car in original condition. This is the only place that the car will be on exhibit this year in the Peoria area.<br />\n&nbsp\;<br />\n&nbsp\;Six of the Gypsy Coeds drove the car around the country each summer from 1934-42. The car has been in several museums around the country since John located it in 2011. The girls met Henry Ford twice and traveled over 70\,000 miles on nine consecutive summer vacations from 1934-42. John&rsquo\;s Mother and aunt were two of the twenty young women who made trips in the historic vehicle.<br />\n<br />\nWheels O&rsquo\; Time Museum\, 1710 W. Woodside Dr.\, Dunlap Il 61525 (N. Knoxville &amp\; W. Woodside Dr.)<br />\n&nbsp\;<br />\nAdmission: $9 adults\, $3.50\, Seniors $8\, ages 3-14. Tour of entire museum of five buildings is included in admission price.<br />\n<br />\n<span style="font-family:calibri\,sans-serif\;"><span style="font-size:11.0pt\;">Ph. 243-9020&nbsp\;&nbsp\;&nbsp\; <a href="http://www.wheelsotime.org">www.wheelsotime.org</a> &lt\;<a href="http://www.wheelsotime.org/">http://www.wheelsotime.org/</a></span></span>
LOCATION:
UID:e.526.6097
SEQUENCE:3
DTSTAMP:20260420T170438Z
URL:https://business.epcc.org/events/details/john-butte-and-the-silver-streak-car-will-be-at-wheels-o-time-museum-on-thursday-6097
END:VEVENT

END:VCALENDAR
