BEGIN:VCALENDAR
VERSION:2.0
PRODID:-//ChamberMaster//Event Calendar 2.0//EN
METHOD:PUBLISH
X-PUBLISHED-TTL:P3D
REFRESH-INTERVAL:P3D
CALSCALE:GREGORIAN
BEGIN:VEVENT
DTSTART:20191129T150000Z
DTEND:20191129T170000Z
X-MICROSOFT-CDO-ALLDAYEVENT:FALSE
SUMMARY:John Graham Gift Wrapping Event for Center for Youth and Family Services
DESCRIPTION:
X-ALT-DESC;FMTTYPE=text/html:
LOCATION:
UID:e.526.6309
SEQUENCE:3
DTSTAMP:20260420T080838Z
URL:https://business.epcc.org/events/details/john-graham-gift-wrapping-event-for-center-for-youth-and-family-services-6309
END:VEVENT

END:VCALENDAR
