BEGIN:VCALENDAR
VERSION:2.0
PRODID:-//ChamberMaster//Event Calendar 2.0//EN
METHOD:PUBLISH
X-PUBLISHED-TTL:P3D
REFRESH-INTERVAL:P3D
CALSCALE:GREGORIAN
BEGIN:VEVENT
DTSTART:20180508T220000Z
DTEND:20180509T000000Z
X-MICROSOFT-CDO-ALLDAYEVENT:FALSE
SUMMARY:Joint BAH May 2018 - McMahon's Pints & Plates EPCC & Washington
DESCRIPTION:
X-ALT-DESC;FMTTYPE=text/html:
LOCATION:
UID:e.526.5477
SEQUENCE:3
DTSTAMP:20260421T153633Z
URL:https://business.epcc.org/events/details/joint-bah-may-2018-mcmahon-s-pints-plates-epcc-washington-5477
END:VEVENT

END:VCALENDAR
