BEGIN:VCALENDAR
VERSION:2.0
PRODID:-//ChamberMaster//Event Calendar 2.0//EN
METHOD:PUBLISH
X-PUBLISHED-TTL:P3D
REFRESH-INTERVAL:P3D
CALSCALE:GREGORIAN
BEGIN:VEVENT
DTSTART:20180419T213000Z
DTEND:20180419T233000Z
X-MICROSOFT-CDO-ALLDAYEVENT:FALSE
SUMMARY:Joint Business After Hours
DESCRIPTION:Join Heart Technologies\, the East Peoria Chamber of Commerce\, the Peoria Chamber of Commerce and the Peoria Civic Center for a joint Networking Event on Thursday\, April 19th.  We will Celebrate Heart Technologies 30 Years in Business.  Don't miss Food by SAVOR\, a Complimentary Drink Token and Free Parking!\n\n\n\nPresentation / Great Heart Give
X-ALT-DESC;FMTTYPE=text/html:<p>Join Heart Technologies\, the East Peoria Chamber of Commerce\, the Peoria Chamber of Commerce and the Peoria Civic Center&nbsp\;for a joint Networking Event&nbsp\;on Thursday\, April 19th.&nbsp\;&nbsp\;We will Celebrate Heart Technologies&nbsp\;30 Years in Business.&nbsp\; Don&#39\;t miss Food by SAVOR\, a Complimentary Drink Token and Free Parking!<br />\n<br />\nPresentation / Great Heart Give</p>\n\n<p>&nbsp\;</p>\n
LOCATION:Peoria Civic Center Parking is Free
UID:e.526.5469
SEQUENCE:3
DTSTAMP:20260421T165934Z
URL:https://business.epcc.org/events/details/joint-business-after-hours-5469
END:VEVENT

END:VCALENDAR
