BEGIN:VCALENDAR
VERSION:2.0
PRODID:-//ChamberMaster//Event Calendar 2.0//EN
METHOD:PUBLISH
X-PUBLISHED-TTL:P3D
REFRESH-INTERVAL:P3D
CALSCALE:GREGORIAN
BEGIN:VEVENT
DTSTART:20180711T190000Z
DTEND:20180711T210000Z
X-MICROSOFT-CDO-ALLDAYEVENT:FALSE
SUMMARY:Ken Zurski Lecture at Wheels O' Time Museum
DESCRIPTION:100 years ago the Riverboat Columbia sank in the Illinois River near Peoria\, the worst loss of life ever on the river. Local author Ken Zurski will be visiting Wheels O' Time Museum on July 11\, 2018. The museum's scale model of the Columbia\, part of the River and Rails exhibit\, will be the gathering point for an informal visit with interested folks at 2:00\, followed at 3:00 in the museum library\, by his discussion of the disaster on July 5\, 1918. All visitors to the museum are invited to attend this very interesting discussion of the terrible tragedy where 87 lives were lost\, which started out as a happy holiday excursion. Ken Zurski's book\, shown above is for sale in the museum's gift shop.
X-ALT-DESC;FMTTYPE=text/html:100 years ago the Riverboat Columbia sank in the Illinois River near Peoria\, the worst loss of life ever on the river. Local author Ken Zurski will be visiting Wheels O&rsquo\; Time Museum on July 11\, 2018. The museum&rsquo\;s scale model of the Columbia\, part of the River and Rails exhibit\, will be the gathering point for an informal visit with interested folks at 2:00\, followed at 3:00 in the museum library\, by his discussion of the disaster on July 5\, 1918. All visitors to the museum are invited to attend this very interesting discussion of the terrible tragedy where 87 lives were lost\, which started out as a happy holiday excursion. Ken Zurski&rsquo\;s book\, shown above is for sale in the museum&rsquo\;s gift shop.&nbsp\;
LOCATION:Wheels O' Time Museum 1710 W Woodside Drive Dunlap\, IL On N. Knoxville Avenue - 2 Miles North of Rte 6 Interchange
UID:e.526.5550
SEQUENCE:3
DTSTAMP:20260421T085217Z
URL:https://business.epcc.org/events/details/ken-zurski-lecture-at-wheels-o-time-museum-5550
END:VEVENT

END:VCALENDAR
