BEGIN:VCALENDAR
VERSION:2.0
PRODID:-//ChamberMaster//Event Calendar 2.0//EN
METHOD:PUBLISH
X-PUBLISHED-TTL:P3D
REFRESH-INTERVAL:P3D
CALSCALE:GREGORIAN
BEGIN:VEVENT
DTSTART:20170609T000000Z
DTEND:20170609T020000Z
X-MICROSOFT-CDO-ALLDAYEVENT:FALSE
SUMMARY:Kick Off Party for Annual Duck Race
DESCRIPTION:Help kick off the 29th annual Duck Race benefiting The Center for Prevention of Abuse on June 8. Festivities begin at 7:00 pm outside Kelleher's Irish Pub & Eatery on Water Street. Kelleher's will close down the block and set up an outdoor bar and guests can begin purchasing ducks to help support services for the Center at the annual event on August 26.
X-ALT-DESC;FMTTYPE=text/html:<p>Help kick off the 29th annual Duck Race benefiting The Center for Prevention of Abuse on June 8. Festivities begin at 7:00 pm outside Kelleher&#39\;s Irish Pub &amp\; Eatery on Water Street. Kelleher&rsquo\;s will close down the block and set up an outdoor bar and guests can begin purchasing ducks to help support services for the Center at the annual event on August 26.</p>\n
LOCATION:Kelleher's Irish Pub & Eatery 619 SW Water Street Peoria\, IL 61602
UID:e.526.4333
SEQUENCE:3
DTSTAMP:20260422T083334Z
URL:https://business.epcc.org/events/details/kick-off-party-for-annual-duck-race-4333
END:VEVENT

END:VCALENDAR
