BEGIN:VCALENDAR
VERSION:2.0
PRODID:-//ChamberMaster//Event Calendar 2.0//EN
METHOD:PUBLISH
X-PUBLISHED-TTL:P3D
REFRESH-INTERVAL:P3D
CALSCALE:GREGORIAN
BEGIN:VEVENT
DTSTART:20180607T230000Z
DTEND:20180608T020000Z
X-MICROSOFT-CDO-ALLDAYEVENT:FALSE
SUMMARY:Kickoff for the 30th Annual Center for Prevention of Abuse Duck Race
DESCRIPTION:Join us Thursday\, June 7th from 6:00-9:00 at Kelleher's\, on SW Water Street in Peoria for the Duck Race Kick Off Party! Grab some friends and stop by after work for a cold drink\, delicious food\, and a chance to take advantage of a special buy one\, get one duck deal.\n\nThe 30th Annual Center For Prevention Duck Race is coming up Saturday\, August 30th.
X-ALT-DESC;FMTTYPE=text/html:<p style="box-sizing: inherit\; margin: 0px 0px 1.2rem\; padding: 0px\; font-size: 16px\; line-height: 1.63\; text-rendering: optimizeLegibility\; color: rgb(0\, 0\, 0)\; font-family: roboto\, sans-serif\;">Join us Thursday\, June 7th from 6:00-9:00 at Kelleher&rsquo\;s\, on SW Water Street in Peoria for the Duck Race Kick Off Party!&nbsp\;Grab some friends and stop&nbsp\;by after work for a cold drink\, delicious food\, and a chance to take advantage of a special buy one\, get one duck deal.</p>\n\n<p style="box-sizing: inherit\; margin: 0px 0px 1.2rem\; padding: 0px\; font-size: 16px\; line-height: 1.63\; text-rendering: optimizeLegibility\; color: rgb(0\, 0\, 0)\; font-family: roboto\, sans-serif\;">The 30th Annual Center For Prevention Duck Race is coming up Saturday\, August 30th.&nbsp\;</p>\n
LOCATION:Kelleher's Irish Pub and Eatery 619 SW Water Street Peoria\, IL
UID:e.526.5513
SEQUENCE:3
DTSTAMP:20260421T154003Z
URL:https://business.epcc.org/events/details/kickoff-for-the-30th-annual-center-for-prevention-of-abuse-duck-race-5513
END:VEVENT

END:VCALENDAR
