BEGIN:VCALENDAR
VERSION:2.0
PRODID:-//ChamberMaster//Event Calendar 2.0//EN
METHOD:PUBLISH
X-PUBLISHED-TTL:P3D
REFRESH-INTERVAL:P3D
CALSCALE:GREGORIAN
BEGIN:VEVENT
DTSTART:20160723T130000Z
DTEND:20160723T190000Z
X-MICROSOFT-CDO-ALLDAYEVENT:FALSE
SUMMARY:Kids' Day
DESCRIPTION:Crittenton Centers is excited to bring to central Illinois the 10th Annual Kids' Day! There will be so much for the whole family starting with a 5K Run/Walk at 8am. Then the favorite Kids' 100 meter dash where children run receive a t-shirt\, medal\, and unlimited bounce house rides for the rest of the event. After race activities for the whole family including live stage entertainment from Peoria Ballet\, and many more\, superhero cake walk\, dunk tank\, unique twist balloons\, face painters\, bounce houses\, IL CHIP program\, City vehicles\, Lowes build and grow\, hula hoop contest\, informational booths from area businesses and organizations and so much more. Spend the day with us at the East Peoria's Levee District! All proceeds benefit Crittenton Centers.
X-ALT-DESC;FMTTYPE=text/html:Crittenton Centers is excited to bring to central Illinois the 10th Annual Kids&rsquo\; Day! There will be so much for the whole family starting with a 5K Run/Walk at 8am. Then the favorite Kids&#39\; 100 meter dash where children run receive a t-shirt\, medal\, and unlimited bounce house rides for the rest of the event. After race activities for the whole family including live stage entertainment from Peoria Ballet\, and many more\, superhero cake walk\, dunk tank\, unique twist balloons\, face painters\, bounce houses\, IL CHIP program\, City vehicles\, Lowes build and grow\, hula hoop contest\, informational booths from area businesses and organizations and so much more. Spend the day with us at the East Peoria&rsquo\;s Levee District! All proceeds benefit Crittenton Centers.
LOCATION:The Levee District\, East Peoria
UID:e.526.3220
SEQUENCE:3
DTSTAMP:20260424T103308Z
URL:https://business.epcc.org/events/details/kids-day-07-23-2016-3220
END:VEVENT

END:VCALENDAR
