BEGIN:VCALENDAR
VERSION:2.0
PRODID:-//ChamberMaster//Event Calendar 2.0//EN
METHOD:PUBLISH
X-PUBLISHED-TTL:P3D
REFRESH-INTERVAL:P3D
CALSCALE:GREGORIAN
BEGIN:VEVENT
DTSTART:20170729T130000Z
DTEND:20170729T190000Z
X-MICROSOFT-CDO-ALLDAYEVENT:FALSE
SUMMARY:Kids Day
DESCRIPTION:Kids' Day is a family friendly event that starts with a 5K race\, then a Kids' Dash\, and ends with inflatable bouncers\, face painting\, live entertainment and so much more. A great day for the whole family!
X-ALT-DESC;FMTTYPE=text/html:Kids&rsquo\; Day is a family friendly event that starts with a 5K race\, then a Kids&#39\; Dash\, and ends with inflatable bouncers\, face painting\, live entertainment and so much more. A great day for the whole family!
LOCATION:East Peoria Levee District
UID:e.526.3752
SEQUENCE:3
DTSTAMP:20260422T055101Z
URL:https://business.epcc.org/events/details/kids-day-3752
END:VEVENT

END:VCALENDAR
