BEGIN:VCALENDAR
VERSION:2.0
PRODID:-//ChamberMaster//Event Calendar 2.0//EN
METHOD:PUBLISH
X-PUBLISHED-TTL:P3D
REFRESH-INTERVAL:P3D
CALSCALE:GREGORIAN
BEGIN:VEVENT
DTSTART:20170719T170000Z
DTEND:20170719T230000Z
X-MICROSOFT-CDO-ALLDAYEVENT:FALSE
SUMMARY:Kiwanis Club of East Peoria Golf Outing
DESCRIPTION:The 3rd Annual East Peoria Kiwanis Club's Golf for a Cause will be on Wednesday\, July 19th with registration at 12:00 and golf starting at 1:00 at Quail Meadows Golf Course.  The Kiwanis Club is raising funds to help build an accessible greenhouse for Schramm Education Center where area students ages 3 to 21 with significant disabilities can learn and grow.  Cost to play is just $65 and includes lunch\, golf cart\, 18 holes of golf\, and entry to win some great prizes!  If you cannot golf but want to support the cause\, consider becoming a hole sponsor for our event for just $100.
X-ALT-DESC;FMTTYPE=text/html:The 3rd Annual East Peoria Kiwanis Club&#39\;s Golf for a Cause will be on Wednesday\, July 19th with registration at 12:00 and golf starting at 1:00 at Quail Meadows Golf Course.&nbsp\; The Kiwanis Club is raising funds to help build an accessible greenhouse for Schramm Education Center where area students ages 3 to 21 with significant disabilities can learn and grow.&nbsp\; Cost to play is just $65 and includes lunch\, golf cart\, 18 holes of golf\, and entry to win some great prizes!&nbsp\; If you cannot golf but want to support the cause\, consider becoming a hole sponsor for our event for just $100.
LOCATION:Quail Meadows Golf Course 2215 Centennial Drive Washington\, IL 61571
UID:e.526.4342
SEQUENCE:3
DTSTAMP:20260422T055720Z
URL:https://business.epcc.org/events/details/kiwanis-club-of-east-peoria-golf-outing-4342
END:VEVENT

END:VCALENDAR
