BEGIN:VCALENDAR
VERSION:2.0
PRODID:-//ChamberMaster//Event Calendar 2.0//EN
METHOD:PUBLISH
X-PUBLISHED-TTL:P3D
REFRESH-INTERVAL:P3D
CALSCALE:GREGORIAN
BEGIN:VEVENT
DTSTART:20190717T163000Z
DTEND:20190717T230000Z
X-MICROSOFT-CDO-ALLDAYEVENT:FALSE
SUMMARY:Kiwanis Club of East Peoria Golf Outing
DESCRIPTION:Kiwanis Club of East Peoria's 5th Annual Golf Outing\n\nRaising funds to help build a modular urban garden for Schramm Educational Center where students ages 3 to 21 with significant disabilities can learn and grow
X-ALT-DESC;FMTTYPE=text/html:Kiwanis Club of East Peoria&#39\;s 5th Annual Golf Outing<br />\nRaising funds to help build a modular urban garden for Schramm Educational Center where students ages 3 to 21 with significant disabilities can learn and grow
LOCATION:Quail Meadows Golf Course 2215 Centennial Drive Washington\, IL 61571
UID:e.526.6084
SEQUENCE:3
DTSTAMP:20260420T141136Z
URL:https://business.epcc.org/events/details/kiwanis-club-of-east-peoria-golf-outing-6084
END:VEVENT

END:VCALENDAR
