BEGIN:VCALENDAR
VERSION:2.0
PRODID:-//ChamberMaster//Event Calendar 2.0//EN
METHOD:PUBLISH
X-PUBLISHED-TTL:P3D
REFRESH-INTERVAL:P3D
CALSCALE:GREGORIAN
BEGIN:VEVENT
DTSTART;VALUE=DATE:20160427
DTEND;VALUE=DATE:20160428
TRANSP:TRANSPARENT
X-MICROSOFT-CDO-ALLDAYEVENT:TRUE
SUMMARY:Kiwanis Rose Sale Fundraiser
DESCRIPTION:The Kiwanis Club of East Peoria is raising funds to help expand the All-Inclusive Accessible Playground in East Peoria's Neumann Park. We are selling roses for $20 per dozen in recognition of Administrative Professional's Day\, and we will deliver to your home or office! Colors include: red\, white\, pink\, yellow\, lavender\, and orange.
X-ALT-DESC;FMTTYPE=text/html:The Kiwanis Club of East Peoria is raising funds to help expand the All-Inclusive Accessible Playground in East Peoria&#39\;s Neumann Park. We are selling roses for $20 per dozen in recognition of Administrative Professional&#39\;s Day\, and we will deliver to your home or office! Colors include: red\, white\, pink\, yellow\, lavender\, and orange.
LOCATION:Delivered to your home or office!
UID:e.526.3026
SEQUENCE:3
DTSTAMP:20260424T135701Z
URL:https://business.epcc.org/events/details/kiwanis-rose-sale-fundraiser-04-27-2016-3026
END:VEVENT

END:VCALENDAR
