BEGIN:VCALENDAR
VERSION:2.0
PRODID:-//ChamberMaster//Event Calendar 2.0//EN
METHOD:PUBLISH
X-PUBLISHED-TTL:P3D
REFRESH-INTERVAL:P3D
CALSCALE:GREGORIAN
BEGIN:VEVENT
DTSTART:20170525T233000Z
DTEND:20170526T010000Z
X-MICROSOFT-CDO-ALLDAYEVENT:FALSE
SUMMARY:Know the Signs of Stroke
DESCRIPTION:When a stroke happens\, time is critical. Know the signs\, so you can identify a stroke and call 911 immediately. Join specialists from the OSF HealthCare Illinois Neurological Institute and Advanced Medical Transport for a town hall discussion about strokes and get your questions answered.\n\nSpeakers:\n\nDavid Wang\, DO\, Stroke Neurologist\n\nDeepak Nair\, MD\, Stroke Neurologist\n\nMaureen Mathews\, APN\, Stroke Clinic\n\nCandace Couri\, APN\, Stroke Clinic\n\nJan Jahnel\, Stroke Nurse Coordinator\n\nTeresa Swanson-Devlin\, Stroke Nurse Coordinator\n\nJudith Beck\, RN\, Neuro Investigation\n\nDiana Connell\, Stroke Clinic Nurse Navigator\n\nThis event is free to attend and open to everyone.\n\nLight refreshments provided. \n\nRegistration required at www.ini.org/community
X-ALT-DESC;FMTTYPE=text/html:<p>When a stroke happens\, time is critical. Know the signs\, so you can identify a stroke and call 911 immediately. Join specialists from the OSF HealthCare Illinois Neurological Institute and Advanced Medical Transport for a town hall discussion about strokes and get your questions answered.</p>\n\n<p><strong>Speakers:</strong></p>\n\n<p>David Wang\, DO\, Stroke Neurologist</p>\n\n<p>Deepak Nair\, MD\, Stroke Neurologist</p>\n\n<p>Maureen Mathews\, APN\, Stroke Clinic</p>\n\n<p>Candace Couri\, APN\, Stroke Clinic</p>\n\n<p>Jan Jahnel\, Stroke Nurse Coordinator</p>\n\n<p>Teresa Swanson-Devlin\, Stroke Nurse Coordinator</p>\n\n<p>Judith Beck\, RN\, Neuro Investigation</p>\n\n<p>Diana Connell\, Stroke Clinic Nurse Navigator</p>\n\n<p><strong>This event is free to attend and open to everyone.</strong><br />\n<strong>Light refreshments provided. </strong><br />\n<strong>Registration required at </strong><strong><a href="http://www.ini.org/community">www.ini.org/community</a></strong></p>\n
LOCATION:OSF Medical Group - Glen Park 5114 N. Glen Park Place Peoria
UID:e.526.4329
SEQUENCE:3
DTSTAMP:20260422T100452Z
URL:https://business.epcc.org/events/details/know-the-signs-of-stroke-4329
END:VEVENT

END:VCALENDAR
