BEGIN:VCALENDAR
VERSION:2.0
PRODID:-//ChamberMaster//Event Calendar 2.0//EN
METHOD:PUBLISH
X-PUBLISHED-TTL:P3D
REFRESH-INTERVAL:P3D
CALSCALE:GREGORIAN
BEGIN:VEVENT
DTSTART;VALUE=DATE:20230508
DTEND;VALUE=DATE:20230513
TRANSP:TRANSPARENT
X-MICROSOFT-CDO-ALLDAYEVENT:TRUE
SUMMARY:Laps for Life
DESCRIPTION:Germantown Hills School District #69 is raising money for St. Jude Through Laps for Life!\n\n\n\n \n\n\n\nGermantown Hills\, IL (May 9\, 2023): The students at Germantown Hills\, District #69\, will raise money for St. Jude the week of May 8   12\, 2023.\n\n\n\n \n\n\n\n "Laps for Life" kicked off on Friday\, May 5th\, to get the students both informed and excited to raise money for St. Jude. Throughout the week\, students learn about St. Jude with daily announcements and are participating in a fun dress-up week.\n\n\n\n \n\n\n\nHarlan Edwards\, a student in Ms. Schwarzentraub's 3rd-grade class\, said\, "Laps for Life is a lot of fun! I really like learning about how we help other kids. I also get to dunk my teacher at the party!"  \n\n\n\n \n\n\n\nIn 2022\, the students at District #69 raised $23\,286.61 for St. Jude. This year the students have set a goal of $25\,000.  \n\n\n\n \n\n\n\nLaps for Life will take place on Monday\, May 15th. It is an all-day event starting in the morning with the younger grades and the middle school in the afternoon. All students will head outdoors for plenty of fun participating in an obstacle course\, with a new obstacle created by the Metamora Township High School woods class\, music by Jak'd Entertainment\, bouncy houses\, the Warp Wall\, Kona Ice\, and the beloved dunk tank. At 2 PM\, all K-8 students will be outside for the check presentation of the money they raised for St. Jude.\n\n\n\n \n\n\n\nFor additional information or to get involved\, please get in touch with Kari Keys at keysk@ghills69.com or by calling (309) 383-2121.\n\n\n\n \n\n\n\nFor the complete new release\, please visit: www.leonedwardsmarketing.com/news
X-ALT-DESC;FMTTYPE=text/html:<div style="margin: 0px\; padding: 0px\; color: rgb(0\, 0\, 0)\; font-family: Tahoma\, Geneva\, sans-serif\; font-size: 12.09px\;">\n<p class="x_MsoNormal" style="margin: 0in\; padding: 0px\; font-size: 11pt\; font-family: Calibri\, sans-serif\;"><b><span style="font-size: 12pt\;">Germantown Hills School District #69 is raising money for St. Jude Through Laps for Life!</span></b></p>\n</div>\n\n<div style="margin: 0px\; padding: 0px\; color: rgb(0\, 0\, 0)\; font-family: Tahoma\, Geneva\, sans-serif\; font-size: 12.09px\;">\n<p class="x_MsoNormal" style="margin: 0in\; padding: 0px\; font-size: 11pt\; font-family: Calibri\, sans-serif\;"><span style="font-size: 12pt\;">&nbsp\;</span></p>\n</div>\n\n<div style="margin: 0px\; padding: 0px\; color: rgb(0\, 0\, 0)\; font-family: Tahoma\, Geneva\, sans-serif\; font-size: 12.09px\;">\n<p class="x_MsoNormal" style="margin: 0in\; padding: 0px\; font-size: 11pt\; font-family: Calibri\, sans-serif\;"><b><span style="font-size: 12pt\;">Germantown Hills\, IL (May 9\, 2023):&nbsp\;</span></b><span style="font-size: 12pt\;">The students at Germantown Hills\, District #69\, will raise money for St. Jude the week of May 8 &ndash\; 12\, 2023.</span></p>\n</div>\n\n<div style="margin: 0px\; padding: 0px\; color: rgb(0\, 0\, 0)\; font-family: Tahoma\, Geneva\, sans-serif\; font-size: 12.09px\;">\n<p class="x_MsoNormal" style="margin: 0in\; padding: 0px\; font-size: 11pt\; font-family: Calibri\, sans-serif\;"><span style="font-size: 12pt\;">&nbsp\;</span></p>\n</div>\n\n<div style="margin: 0px\; padding: 0px\; color: rgb(0\, 0\, 0)\; font-family: Tahoma\, Geneva\, sans-serif\; font-size: 12.09px\;">\n<p class="x_MsoNormal" style="margin: 0in\; padding: 0px\; font-size: 11pt\; font-family: Calibri\, sans-serif\;"><span style="font-size: 12pt\;">&nbsp\;&ldquo\;Laps for Life&rdquo\; kicked off on Friday\, May 5th\, to get the students both informed and excited to raise money for St. Jude. Throughout the week\, students learn about St. Jude with daily announcements and are participating in a fun dress-up week.</span></p>\n</div>\n\n<div style="margin: 0px\; padding: 0px\; color: rgb(0\, 0\, 0)\; font-family: Tahoma\, Geneva\, sans-serif\; font-size: 12.09px\;">\n<p class="x_MsoNormal" style="margin: 0in\; padding: 0px\; font-size: 11pt\; font-family: Calibri\, sans-serif\;"><span style="font-size: 12pt\;">&nbsp\;</span></p>\n</div>\n\n<div style="margin: 0px\; padding: 0px\; color: rgb(0\, 0\, 0)\; font-family: Tahoma\, Geneva\, sans-serif\; font-size: 12.09px\;">\n<p class="x_MsoNormal" style="margin: 0in\; padding: 0px\; font-size: 11pt\; font-family: Calibri\, sans-serif\;"><span style="font-size: 12pt\;">Harlan Edwards\, a student in Ms. Schwarzentraub&rsquo\;s 3rd-grade class\, said\, &ldquo\;<i>Laps for Life is a lot of fun! I really like learning about how we help other kids. I also get to dunk my teacher at the party!</i>&rdquo\; &nbsp\;</span></p>\n</div>\n\n<div style="margin: 0px\; padding: 0px\; color: rgb(0\, 0\, 0)\; font-family: Tahoma\, Geneva\, sans-serif\; font-size: 12.09px\;">\n<p class="x_MsoNormal" style="margin: 0in\; padding: 0px\; font-size: 11pt\; font-family: Calibri\, sans-serif\;"><span style="font-size: 12pt\;">&nbsp\;</span></p>\n</div>\n\n<div style="margin: 0px\; padding: 0px\; color: rgb(0\, 0\, 0)\; font-family: Tahoma\, Geneva\, sans-serif\; font-size: 12.09px\;">\n<p class="x_MsoNormal" style="margin: 0in\; padding: 0px\; font-size: 11pt\; font-family: Calibri\, sans-serif\;"><b><span style="font-size: 12pt\;">In 2022\, the students at District #69 raised $23\,286.61 for St. Jude. This year the students have set a goal of $25\,000. &nbsp\;</span></b></p>\n</div>\n\n<div style="margin: 0px\; padding: 0px\; color: rgb(0\, 0\, 0)\; font-family: Tahoma\, Geneva\, sans-serif\; font-size: 12.09px\;">\n<p class="x_MsoNormal" style="margin: 0in\; padding: 0px\; font-size: 11pt\; font-family: Calibri\, sans-serif\;"><span style="font-size: 12pt\;">&nbsp\;</span></p>\n</div>\n\n<div style="margin: 0px\; padding: 0px\; color: rgb(0\, 0\, 0)\; font-family: Tahoma\, Geneva\, sans-serif\; font-size: 12.09px\;">\n<p class="x_MsoNormal" style="margin: 0in\; padding: 0px\; font-size: 11pt\; font-family: Calibri\, sans-serif\;"><span style="font-size: 12pt\;">Laps for Life will take place on Monday\, May 15th. It is an all-day event starting in the morning with the younger grades and the middle school in the afternoon. All students will head outdoors for plenty of fun participating in an obstacle course\, with a new obstacle created by the Metamora Township High School woods class\, music by Jak&#39\;d Entertainment\, bouncy houses\, the Warp Wall\, Kona Ice\, and the beloved dunk tank. At 2 PM\, all K-8 students will be outside for the check presentation of the money they raised for St. Jude.</span></p>\n</div>\n\n<div style="margin: 0px\; padding: 0px\; color: rgb(0\, 0\, 0)\; font-family: Tahoma\, Geneva\, sans-serif\; font-size: 12.09px\;">\n<p class="x_MsoNormal" style="margin: 0in\; padding: 0px\; font-size: 11pt\; font-family: Calibri\, sans-serif\;"><span style="font-size: 12pt\;">&nbsp\;</span></p>\n</div>\n\n<div style="margin: 0px\; padding: 0px\; color: rgb(0\, 0\, 0)\; font-family: Tahoma\, Geneva\, sans-serif\; font-size: 12.09px\;">\n<p class="x_MsoNormal" style="margin: 0in\; padding: 0px\; font-size: 11pt\; font-family: Calibri\, sans-serif\;"><span style="font-size: 12pt\;">For additional information or to get involved\, please get in touch with Kari Keys at&nbsp\;<a _bcc="" _body="" _cc="" _subject="" _to="keysk@ghills69.com" style="color: blue\; text-decoration-line: underline\; outline: none\;">keysk@ghills69.com</a>&nbsp\;or by calling (309) 383-2121.</span></p>\n</div>\n\n<div style="margin: 0px\; padding: 0px\; color: rgb(0\, 0\, 0)\; font-family: Tahoma\, Geneva\, sans-serif\; font-size: 12.09px\;">\n<p class="x_MsoNormal" style="margin: 0in\; padding: 0px\; font-size: 11pt\; font-family: Calibri\, sans-serif\;"><span style="font-size: 12pt\;">&nbsp\;</span></p>\n</div>\n\n<div style="margin: 0px\; padding: 0px\; color: rgb(0\, 0\, 0)\; font-family: Tahoma\, Geneva\, sans-serif\; font-size: 12.09px\;">\n<p class="x_MsoNormal" style="margin: 0in\; padding: 0px\; font-size: 11pt\; font-family: Calibri\, sans-serif\;"><span style="font-size: 12pt\;">For the complete new release\, please visit:&nbsp\;<a href="https://www.leonedwardsmarketing.com/news" rel="noopener noreferrer" style="color: blue\; outline: none\;" target="_blank" title="This external link will open in a new window">www.leonedwardsmarketing.com/news</a></span></p>\n</div>\n
LOCATION:
UID:e.526.7272
SEQUENCE:3
DTSTAMP:20260422T221415Z
URL:https://business.epcc.org/events/details/laps-for-life-7272
END:VEVENT

END:VCALENDAR
