BEGIN:VCALENDAR
VERSION:2.0
PRODID:-//ChamberMaster//Event Calendar 2.0//EN
METHOD:PUBLISH
X-PUBLISHED-TTL:P3D
REFRESH-INTERVAL:P3D
CALSCALE:GREGORIAN
BEGIN:VEVENT
DTSTART:20221217T160000Z
DTEND:20221217T220000Z
X-MICROSOFT-CDO-ALLDAYEVENT:FALSE
SUMMARY:Last Minute Shopping Frenzy at The Pickers Daughter
DESCRIPTION:Come get all of your last minute shopping completed right here at The Pickers Daughter! We have something for everyone on your list: Men\, woman\, kids\, babies! Stocking stuffer ideas galore! Don't leave anyone off of your list because you can't find that perfect item! We will have the best selection\, one of a kind and deals that won't break the bank!\n\nBONUS! Drawings for a gift basket AND a gift certificate!
X-ALT-DESC;FMTTYPE=text/html:<span style="color: rgb(5\, 5\, 5)\; font-family: &quot\;Segoe UI Historic&quot\;\, &quot\;Segoe UI&quot\;\, Helvetica\, Arial\, sans-serif\; font-size: 15px\;">Come get all of your last minute shopping completed right here at The Pickers Daughter! We have something for everyone on your list: Men\, woman\, kids\, babies! Stocking stuffer ideas galore! Don&#39\;t leave anyone off of your list because you can&#39\;t find that perfect item! We will have the best selection\, one of a kind and deals that won&#39\;t break the bank!</span><br style="color: rgb(5\, 5\, 5)\; font-family: &quot\;Segoe UI Historic&quot\;\, &quot\;Segoe UI&quot\;\, Helvetica\, Arial\, sans-serif\; font-size: 15px\;" />\n<span style="color: rgb(5\, 5\, 5)\; font-family: &quot\;Segoe UI Historic&quot\;\, &quot\;Segoe UI&quot\;\, Helvetica\, Arial\, sans-serif\; font-size: 15px\;">BONUS! Drawings for a gift basket AND a gift certificate!</span>
LOCATION:The Pickers Daughter 125 E Washington St East Peoria\, IL 61611
UID:e.526.7030
SEQUENCE:3
DTSTAMP:20260422T163623Z
URL:https://business.epcc.org/events/details/last-minute-shopping-frenzy-at-the-pickers-daughter-7030
END:VEVENT

END:VCALENDAR
