BEGIN:VCALENDAR
VERSION:2.0
PRODID:-//ChamberMaster//Event Calendar 2.0//EN
METHOD:PUBLISH
X-PUBLISHED-TTL:P3D
REFRESH-INTERVAL:P3D
CALSCALE:GREGORIAN
BEGIN:VEVENT
DTSTART:20160505T130000Z
DTEND:20160506T220000Z
X-MICROSOFT-CDO-ALLDAYEVENT:FALSE
SUMMARY:Leading Organizational Performance
DESCRIPTION:An interactive two day workshop for team leaders. Topics will include how to be an effective team leader\, the dynamics of a team and effective negotiation techniques.
X-ALT-DESC;FMTTYPE=text/html:An interactive two day workshop for team leaders. Topics will include how to be an effective team leader\, the dynamics of a team and effective negotiation techniques.
LOCATION:Peoria NEXT
UID:e.526.3027
SEQUENCE:3
DTSTAMP:20260424T122844Z
URL:https://business.epcc.org/events/details/leading-organizational-performance-05-05-2016-3027
END:VEVENT

END:VCALENDAR
