BEGIN:VCALENDAR
VERSION:2.0
PRODID:-//ChamberMaster//Event Calendar 2.0//EN
METHOD:PUBLISH
X-PUBLISHED-TTL:P3D
REFRESH-INTERVAL:P3D
CALSCALE:GREGORIAN
BEGIN:VEVENT
DTSTART:20180616T150000Z
DTEND:20180617T010000Z
X-MICROSOFT-CDO-ALLDAYEVENT:FALSE
SUMMARY:Levee District Craft Show & Cruise-In
DESCRIPTION:The annual Levee District Cruise-In will take place on June 16\, 2018. Uftring AutoMall will host a craft show starting at 10am\, and the cruise-in will start at 4pm.
X-ALT-DESC;FMTTYPE=text/html:The annual Levee District Cruise-In will take place on June 16\, 2018. Uftring&nbsp\;AutoMall will host a craft show starting at 10am\, and the cruise-in will start at 4pm.&nbsp\;
LOCATION:East Peoria Levee District
UID:e.526.5502
SEQUENCE:3
DTSTAMP:20260421T140831Z
URL:https://business.epcc.org/events/details/levee-district-craft-show-cruise-in-5502
END:VEVENT

END:VCALENDAR
