BEGIN:VCALENDAR
VERSION:2.0
PRODID:-//ChamberMaster//Event Calendar 2.0//EN
METHOD:PUBLISH
X-PUBLISHED-TTL:P3D
REFRESH-INTERVAL:P3D
CALSCALE:GREGORIAN
BEGIN:VEVENT
DTSTART:20180728T140000Z
DTEND:20180728T190000Z
X-MICROSOFT-CDO-ALLDAYEVENT:FALSE
SUMMARY:Levee District Hosts Crittenton Center's Kid's Day
DESCRIPTION:BOUNCE HOUSES  THE UNIQUE TWIST  CAKE WALK \n\nFACE PAINT OBSTICLE COURSE  LIVE PERFORMANCES BIKE ACTIVITIES  ILLINOIS CHIP PROGRAM \n\nAND MORE!!
X-ALT-DESC;FMTTYPE=text/html:<span style="font-weight:bold\;language:en-US\;"><span style="color:red\;"><span style="font-family:calibri\;"><span style="font-size:20.0pt\;">BOUNCE HOUSES </span></span></span></span><span style="font-weight:bold\;language:en-US\;"><span style="font-family:calibri\;"><span style="font-size:20.0pt\;">&mdash\;</span></span></span><span style="font-weight:bold\;language:en-US\;"><span style="color:purple\;"><span style="font-family:calibri\;"><span style="font-size:20.0pt\;">THE UNIQUE TWIST</span></span></span></span><span style="font-weight:bold\;language:en-US\;"><span style="font-family:calibri\;"><span style="font-size:20.0pt\;">&mdash\; </span></span></span><span style="font-weight:bold\;language:en-US\;"><span style="color:#0070C0\;"><span style="font-family:calibri\;"><span style="font-size:20.0pt\;">CAKE WALK </span></span></span></span><br />\n<span style="font-weight:bold\;language:en-US\;"><span style="color:#00B050\;"><span style="font-family:calibri\;"><span style="font-size:20.0pt\;">FACE PAINT</span></span></span></span><span style="font-weight:bold\;language:en-US\;"><span style="font-family:calibri\;"><span style="font-size:20.0pt\;">&mdash\;</span></span></span><span style="font-weight:bold\;language:en-US\;"><span style="color:#FFC000\;"><span style="font-family:calibri\;"><span style="font-size:20.0pt\;">OBSTICLE COURSE</span></span></span></span><span style="font-weight:bold\;language:en-US\;"><span style="font-family:calibri\;"><span style="font-size:20.0pt\;">&mdash\; </span></span></span><span style="font-weight:bold\;language:en-US\;"><span style="color:red\;"><span style="font-family:calibri\;"><span style="font-size:20.0pt\;">LIVE PERFORMANCES </span></span></span></span><span style="font-weight:bold\;language:en-US\;"><span style="color:#0070C0\;"><span style="font-family:calibri\;"><span style="font-size:20.0pt\;">BIKE ACTIVITIES </span></span></span></span><span style="font-weight:bold\;language:en-US\;"><span style="font-family:calibri\;"><span style="font-size:20.0pt\;">&mdash\;</span></span></span><span style="font-weight:bold\;language:en-US\;"><span style="color:#00B050\;"><span style="font-family:calibri\;"><span style="font-size:20.0pt\;">ILLINOIS CHIP PROGRAM </span></span></span></span><br />\n<span style="font-weight:bold\;language:en-US\;"><span style="color:purple\;"><span style="font-family:calibri\;"><span style="font-size:20.0pt\;">AND MORE!! </span></span></span></span><br />\n&nbsp\;
LOCATION:East Peoria Levee District
UID:e.526.5522
SEQUENCE:3
DTSTAMP:20260421T095529Z
URL:https://business.epcc.org/events/details/levee-district-hosts-crittenton-center-s-kid-s-day-5522
END:VEVENT

END:VCALENDAR
