BEGIN:VCALENDAR
VERSION:2.0
PRODID:-//ChamberMaster//Event Calendar 2.0//EN
METHOD:PUBLISH
X-PUBLISHED-TTL:P3D
REFRESH-INTERVAL:P3D
CALSCALE:GREGORIAN
BEGIN:VEVENT
DTSTART:20161026T130000Z
DTEND:20161026T170000Z
X-MICROSOFT-CDO-ALLDAYEVENT:FALSE
SUMMARY:Leveraging Influence
DESCRIPTION:A workshop segment from our successful Advanced Leadership Development Program. Enrollment in this class will include an Influence Style Indicator \, a powerful assessment instrument for organizational leaders. You will be introduced to the five influence styles and identify your own preferred style.
X-ALT-DESC;FMTTYPE=text/html:A workshop segment from our successful Advanced Leadership Development Program. Enrollment in this class will include an Influence Style Indicator&reg\;\, a powerful assessment instrument for organizational leaders. You will be introduced to the five influence styles and identify your own preferred style.
LOCATION:Baker Hall\, Bradley University
UID:e.526.3102
SEQUENCE:3
DTSTAMP:20260422T195835Z
URL:https://business.epcc.org/events/details/leveraging-influence-10-26-2016-3102
END:VEVENT

END:VCALENDAR
