BEGIN:VCALENDAR
VERSION:2.0
PRODID:-//ChamberMaster//Event Calendar 2.0//EN
METHOD:PUBLISH
X-PUBLISHED-TTL:P3D
REFRESH-INTERVAL:P3D
CALSCALE:GREGORIAN
BEGIN:VEVENT
DTSTART:20230719T170000Z
DTEND:20230719T180000Z
X-MICROSOFT-CDO-ALLDAYEVENT:FALSE
SUMMARY:Leveraging Resources for Export Success
DESCRIPTION:The global pandemic has dramatically increased the focus on the importance of exporting. Companies have realized that to be resilient and competitive\, they need to be engaged globally. This no cost series of five one-hour webinars will discuss the most important decisions small to medium sized businesses need to make for a successful export strategy. This series is sponsored by the Illinois SBDC International Trade Center at Bradley University and is co-sponsored by: Illinois Manufacturing Excellence Center\, Greater Peoria Economic Development Council & FTZ #114\, DCEO/OTI\, and the US Department of Commerce.\n\nWho should attend:\n\n-Entrepreneurs   needing insights on when their venture is ready to go global\n\n-New-to-Exporting Companies   Utilize the steps provided to ensure your export plan is effective\n\n-Existing Exporters   Learn new techniques to support your current exporting efforts\n\nTake away:\n\n-Learn the biggest mistakes companies make when developing their export strategy\n\n-Gain insights on how to change from a reactive exporter to a proactive exporter\n\n-Don't have an export plan?  This series will guide you through the process of developing a great export plan you actually use!\n\n\n\nThough the landscape of international trade is constantly changing\, one change has been particularly impactful: companies increasingly have access to better and more current international trade data to make smarter decisions. This session will review those resources\, nearly all of which are available at no cost. We will also highlight why you must understand the global Harmonized Code System used by countries to report their imports and exports. This session will be valuable to new and existing exporters that may not be aware of these recent available of great trade data. \n\n\n\nSpeaker:\n\nJim Foley is the director of the Turner Center for Entrepreneurship and the Illinois SBDC International Trade Center at Bradley University. He manages a program of counseling and training in international business\, marketing\, logistics and finance.  He is also Director of International Programs for the Foster College of Business and Director of Business and Nonprofit Partnerships for the university. Mr. Foley is the author of the book The Global Entrepreneur 4th Edition discussing techniques to expand exports. He is also the co-author of the eleventh edition of International Marketing by Vern Tersptra. Jim has received numerous recognitions including the ASBDC State Star\, the NASBITE International Trade Educator of the Year Award\, the Illinois Governor's Export Award\, and the IATTO Lifetime Achievement Award. He most recently received the John Otis Lifetime Achievement Award\, Nasbite International's highest recognition. Jim serves as national co-chair of the ASBDC International Interest Section and a member of the Illinois District Export Council.  Prior to joining the trade center\, Mr. Foley worked in the computer industry living in Los Angeles and London.  He has an MBA from the London Business School at the University of London\, and B.A. from Knox College.\n\n\n\nRegistration Links:\n\nhttps://Bradley.zoom.us/meeting/register/tJYrfuivqzwuHdWhGooVR3_Xu6JhvOxYxfQl\n\nhttps://www.bit.ly/GettingReadyS2
X-ALT-DESC;FMTTYPE=text/html:<span style="color:#222222"><span style="font-family:times new roman\,serif"><span style="font-size:12.0pt">The global pandemic has dramatically increased the focus on the importance of exporting. Companies have realized that to be resilient and competitive\, they need to be engaged globally. This <strong>no cost</strong> series of five one-hour webinars will discuss the most important decisions small to medium sized businesses need to make for a successful export strategy. </span></span></span><span style="color:#222222"><span style="font-family:times new roman\,serif"><span style="font-size:12.0pt">This series is sponsored by the Illinois SBDC International Trade Center at Bradley University and is </span></span></span><span style="color:#222222"><span style="font-family:times new roman\,serif"><span style="font-size:12.0pt">co-sponsored by: Illinois Manufacturing Excellence Center\, Greater Peoria Economic Development Council &amp\; FTZ #114\, DCEO/OTI\, and the US Department of Commerce.</span></span></span><br />\n<strong><span style="color:#222222"><span style="font-family:times new roman\,serif"><span style="font-size:12.0pt">Who should attend</span></span></span></strong>:<br />\n<span style="font-family:times new roman\,serif"><span style="font-size:12.0pt">-Entrepreneurs &ndash\; needing insights on when their venture is ready to go global</span></span><br />\n<span style="color:#222222"><span style="font-family:times new roman\,serif"><span style="font-size:12.0pt">-New-to-Exporting Companies &ndash\; Utilize the steps provided to ensure your export plan is effective</span></span></span><br />\n<span style="color:#222222"><span style="font-family:times new roman\,serif"><span style="font-size:12.0pt">-Existing Exporters &ndash\; Learn new techniques to support your current exporting efforts</span></span></span><br />\n<strong><span style="color:#222222"><span style="font-family:times new roman\,serif"><span style="font-size:12.0pt">Take away</span></span></span></strong><span style="color:#222222"><span style="font-family:times new roman\,serif"><span style="font-size:12.0pt">:</span></span></span><br />\n<span style="color:#222222"><span style="font-family:times new roman\,serif"><span style="font-size:12.0pt">-Learn the biggest mistakes companies make when developing their export strategy</span></span></span><br />\n<span style="color:#222222"><span style="font-family:times new roman\,serif"><span style="font-size:12.0pt">-Gain insights on how to change from a reactive exporter to a proactive exporter</span></span></span><br />\n<span style="color:#222222"><span style="font-family:times new roman\,serif"><span style="font-size:12.0pt">-Don&rsquo\;t have an export plan?&nbsp\; This series will guide you through the process of developing a great export plan you actually use!</span></span></span><br />\n<br />\n<span style="color:#222222"><span style="font-family:times new roman\,serif"><span style="font-size:12.0pt">Though the landscape of international trade is constantly changing\, one change has been particularly impactful: companies increasingly have access to better and more current international trade data to make smarter decisions. This session will review those resources\, nearly all of which are available at no cost. We will also highlight why you must understand the global Harmonized Code System used by countries to report their imports and exports. This session will be valuable to new and existing exporters that may not be aware of these recent available of great trade data. </span></span></span><br />\n<br />\n<strong><span style="color:#222222"><span style="font-family:times new roman\,serif"><span style="font-size:12.0pt">Speaker:</span></span></span></strong><br />\n<span style="font-family:times new roman\,serif"><span style="font-size:12.0pt">Jim Foley is the director of the Turner Center for Entrepreneurship and the Illinois SBDC International Trade Center at Bradley University. He manages a program of counseling and training in international business\, marketing\, logistics and finance.&nbsp\; He is also Director of International Programs for the Foster College of Business and Director of Business and Nonprofit Partnerships for the university. Mr. Foley is the author of the book <u>The Global Entrepreneur 4<sup>th</sup> Edition</u> discussing techniques to expand exports. He is also the co-author of the eleventh edition of <u>International Marketing</u> by Vern Tersptra. Jim has received numerous recognitions including the ASBDC State Star\, the NASBITE International Trade Educator of the Year Award\, the Illinois Governor&rsquo\;s Export Award\, and the IATTO Lifetime Achievement Award. He most recently received the John Otis Lifetime Achievement Award\, Nasbite International&rsquo\;s highest recognition. Jim serves as national co-chair of the ASBDC International Interest Section and a member of the Illinois District Export Council.&nbsp\; Prior to joining the trade center\, Mr. Foley worked in the computer industry living in Los Angeles and London.&nbsp\; He has an MBA from the London Business School at the University of London\, and B.A. from Knox College.</span></span><br />\n<br />\n<span style="font-family:times new roman\,serif"><span style="font-size:12.0pt">Registration Links:</span></span><br />\n<a href="https://www.google.com/url?q=https://bradley.zoom.us/meeting/register/tJYrfuivqzwuHdWhGooVR3_Xu6JhvOxYxfQl&amp\;sa=D&amp\;source=calendar&amp\;ust=1675180240358794&amp\;usg=AOvVaw2JoiESz8kS_OiHOTHqhVAR"><span style="font-family:times new roman\,serif"><span style="font-size:12.0pt">https://Bradley.zoom.us/meeting/register/tJYrfuivqzwuHdWhGooVR3_Xu6JhvOxYxfQl</span></span></a><br />\n<span style="font-family:calibri\,sans-serif"><span style="font-size:11.0pt"><a href="https://www.bit.ly/GettingReadyS2"><span style="font-family:times new roman\,serif"><span style="font-size:12.0pt">https://www.bit.ly/GettingReadyS2</span></span></a></span></span>
LOCATION:Online
UID:e.526.7281
SEQUENCE:3
DTSTAMP:20260422T121550Z
URL:https://business.epcc.org/events/details/leveraging-resources-for-export-success-7281
END:VEVENT

END:VCALENDAR
