BEGIN:VCALENDAR
VERSION:2.0
PRODID:-//ChamberMaster//Event Calendar 2.0//EN
METHOD:PUBLISH
X-PUBLISHED-TTL:P3D
REFRESH-INTERVAL:P3D
CALSCALE:GREGORIAN
BEGIN:VEVENT
DTSTART:20150618T000000Z
DTEND:20150618T020000Z
X-MICROSOFT-CDO-ALLDAYEVENT:FALSE
SUMMARY:Library Hosts Master Musician Dennis Stroughmatt
DESCRIPTION:Fondulac District Library hosts Illinois Creoles\, French Canadians\, and Louisiana Cajuns (and their fiddling)\, a presentation by cultural authority and fiddler Dennis Stroughmatt.
X-ALT-DESC;FMTTYPE=text/html:Fondulac District Library hosts <em>Illinois Creoles\, French Canadians\, and Louisiana Cajuns (and their fiddling)</em>\, a presentation by cultural authority and fiddler Dennis Stroughmatt.
LOCATION:Fondulac District Library 400 Richland Street East Peoria\, IL. 61611
UID:e.526.1681
SEQUENCE:3
DTSTAMP:20260425T031331Z
URL:https://business.epcc.org/events/details/library-hosts-master-musician-dennis-stroughmatt-06-17-2015-1681
END:VEVENT

END:VCALENDAR
