BEGIN:VCALENDAR
VERSION:2.0
PRODID:-//ChamberMaster//Event Calendar 2.0//EN
METHOD:PUBLISH
X-PUBLISHED-TTL:P3D
REFRESH-INTERVAL:P3D
CALSCALE:GREGORIAN
BEGIN:VEVENT
DTSTART:20161015T140000Z
DTEND:20161015T210000Z
X-MICROSOFT-CDO-ALLDAYEVENT:FALSE
SUMMARY:LifeExpo: Vicki Lawrence and Mama\, A Two Women Show
DESCRIPTION:LifeExpo is the premier resource for all things important to seniors and baby boomers- health and wellness\, health screenings\, assisted living\, real estate\, travel\, finanial planning\, and more!
X-ALT-DESC;FMTTYPE=text/html:LifeExpo is the premier resource for all things important to seniors and baby boomers- health and wellness\, health screenings\, assisted living\, real estate\, travel\, finanial planning\, and more!
LOCATION:Peoria Civic Center
UID:e.526.3247
SEQUENCE:3
DTSTAMP:20260422T183812Z
URL:https://business.epcc.org/events/details/lifeexpo-vicki-lawrence-and-mama-a-two-women-show-3247
END:VEVENT

END:VCALENDAR
