BEGIN:VCALENDAR
VERSION:2.0
PRODID:-//ChamberMaster//Event Calendar 2.0//EN
METHOD:PUBLISH
X-PUBLISHED-TTL:P3D
REFRESH-INTERVAL:P3D
CALSCALE:GREGORIAN
BEGIN:VEVENT
DTSTART:20170311T020000Z
DTEND:20170311T050000Z
X-MICROSOFT-CDO-ALLDAYEVENT:FALSE
SUMMARY:Limelight Eventplex presents Aaron Lewis - The Sinner Tour
DESCRIPTION:Limelight Eventplex Presents:\n\nAaron Lewis - The Sinner Tour\n\nFriday Mar 10\, 2017\n\nDoors: 6:00 PM \n\nShow: 8:00 PM\n\nAll Ages\n\n$25.50 - $55
X-ALT-DESC;FMTTYPE=text/html:<div>Limelight Eventplex Presents:</div>\n\n<div>Aaron Lewis - The Sinner Tour</div>\n\n<div><span style="font-family: inherit\; font-size: inherit\;">Friday</span>&nbsp\;<span style="font-family: inherit\; font-size: inherit\;">Mar 10</span><span style="font-family: inherit\; font-size: inherit\;">\, 2017</span></div>\n\n<p>Doors: 6:00 PM&nbsp\;<br />\nShow: 8:00 PM</p>\n\n<p>All Ages</p>\n\n<div>$25.50 - $55</div>\n
LOCATION:Limelight Eventplex
UID:e.526.3499
SEQUENCE:3
DTSTAMP:20260422T113141Z
URL:https://business.epcc.org/events/details/limelight-eventplex-presents-aaron-lewis-the-sinner-tour-3499
END:VEVENT

END:VCALENDAR
