BEGIN:VCALENDAR
VERSION:2.0
PRODID:-//ChamberMaster//Event Calendar 2.0//EN
METHOD:PUBLISH
X-PUBLISHED-TTL:P3D
REFRESH-INTERVAL:P3D
CALSCALE:GREGORIAN
BEGIN:VEVENT
DTSTART:20170128T020000Z
DTEND:20170128T050000Z
X-MICROSOFT-CDO-ALLDAYEVENT:FALSE
SUMMARY:Limelight Eventplex presents Blackberry Smoke-Like An Arrow Tour
DESCRIPTION:99.9 WWCT & Limelight Eventplex Presents:\n\nBlackberry Smoke-Like An Arrow Tour\n\nFriday Jan 27\, 2017\n\nDoors: 6:00 PM \n\nShow: 8:00 PM\n\nAll Ages\n\n$25 - $65
X-ALT-DESC;FMTTYPE=text/html:<div>99.9 WWCT &amp\; Limelight Eventplex Presents:</div>\n\n<div>Blackberry Smoke-Like An Arrow Tour</div>\n\n<div><span style="font-family: inherit\; font-size: inherit\;">Friday</span>&nbsp\;<span style="font-family: inherit\; font-size: inherit\;">Jan 27</span><span style="font-family: inherit\; font-size: inherit\;">\, 2017</span></div>\n\n<p>Doors: 6:00 PM&nbsp\;<br />\nShow: 8:00 PM</p>\n\n<p>All Ages</p>\n\n<div>$25 - $65</div>\n
LOCATION:Limelight Eventplex
UID:e.526.3495
SEQUENCE:3
DTSTAMP:20260422T155256Z
URL:https://business.epcc.org/events/details/limelight-eventplex-presents-blackberry-smoke-like-an-arrow-tour-3495
END:VEVENT

END:VCALENDAR
