BEGIN:VCALENDAR
VERSION:2.0
PRODID:-//ChamberMaster//Event Calendar 2.0//EN
METHOD:PUBLISH
X-PUBLISHED-TTL:P3D
REFRESH-INTERVAL:P3D
CALSCALE:GREGORIAN
BEGIN:VEVENT
DTSTART:20170304T020000Z
DTEND:20170304T050000Z
X-MICROSOFT-CDO-ALLDAYEVENT:FALSE
SUMMARY:Limelight Eventplex presents Lucero
DESCRIPTION:99.9 WWCT & Limelight Eventplex Presents:\n\nLucero\n\nEsm  Patterson\n\nFriday Mar 3\, 2017\n\nDoors: 7:00 PM \n\nShow: 8:00 PM\n\nAll Ages\n\n$17 - $25
X-ALT-DESC;FMTTYPE=text/html:<div>99.9 WWCT &amp\; Limelight Eventplex Presents:</div>\n\n<div>Lucero</div>\n\n<div>Esm&eacute\; Patterson</div>\n\n<div><span style="font-family: inherit\; font-size: inherit\;">Friday</span>&nbsp\;<span style="font-family: inherit\; font-size: inherit\;">Mar 3</span><span style="font-family: inherit\; font-size: inherit\;">\, 2017</span></div>\n\n<p>Doors: 7:00 PM&nbsp\;<br />\nShow: 8:00 PM</p>\n\n<p>All Ages</p>\n\n<div>$17 - $25</div>\n
LOCATION:Limelight Eventplex
UID:e.526.3498
SEQUENCE:3
DTSTAMP:20260422T112724Z
URL:https://business.epcc.org/events/details/limelight-eventplex-presents-lucero-3498
END:VEVENT

END:VCALENDAR
