BEGIN:VCALENDAR
VERSION:2.0
PRODID:-//ChamberMaster//Event Calendar 2.0//EN
METHOD:PUBLISH
X-PUBLISHED-TTL:P3D
REFRESH-INTERVAL:P3D
CALSCALE:GREGORIAN
BEGIN:VEVENT
DTSTART:20170212T020000Z
DTEND:20170212T050000Z
X-MICROSOFT-CDO-ALLDAYEVENT:FALSE
SUMMARY:Limelight Eventplex presents Old Dominion Meat and Candy Tour
DESCRIPTION:Limelight Eventplex Presents:\n\nOld Dominion Meat and Candy Tour\n\nSaturday Feb 11\, 2017\n\nDoors: 7:00 PM \n\nShow: 8:00 PM\n\n$20 - $40
X-ALT-DESC;FMTTYPE=text/html:<div>Limelight Eventplex Presents:</div>\n\n<div>Old Dominion Meat and Candy Tour</div>\n\n<div><span style="font-family: inherit\; font-size: inherit\;">Saturday</span>&nbsp\;<span style="font-family: inherit\; font-size: inherit\;">Feb 11</span><span style="font-family: inherit\; font-size: inherit\;">\, 2017</span></div>\n\n<p>Doors: 7:00 PM&nbsp\;<br />\nShow: 8:00 PM</p>\n\n<div>$20 - $40</div>\n
LOCATION:Limelight Eventplex
UID:e.526.3496
SEQUENCE:3
DTSTAMP:20260422T142219Z
URL:https://business.epcc.org/events/details/limelight-eventplex-presents-old-dominion-meat-and-candy-tour-3496
END:VEVENT

END:VCALENDAR
