BEGIN:VCALENDAR
VERSION:2.0
PRODID:-//ChamberMaster//Event Calendar 2.0//EN
METHOD:PUBLISH
X-PUBLISHED-TTL:P3D
REFRESH-INTERVAL:P3D
CALSCALE:GREGORIAN
BEGIN:VEVENT
DTSTART:20161209T020000Z
DTEND:20161209T050000Z
X-MICROSOFT-CDO-ALLDAYEVENT:FALSE
SUMMARY:Limelight Eventplex presents Russell Dickerson
DESCRIPTION:Limelight Eventplex Presents:\n\nRussell Dickerson\n\nThursday Dec 8\, 2016\n\nDoors: 7:00 PM \n\nShow: 8:00 PM\n\nAll Ages\n\n$5 - $15
X-ALT-DESC;FMTTYPE=text/html:<div>Limelight Eventplex Presents:</div>\n\n<div>Russell Dickerson</div>\n\n<div><span style="font-family: inherit\; font-size: inherit\;">Thursday</span>&nbsp\;<span style="font-family: inherit\; font-size: inherit\;">Dec 8</span><span style="font-family: inherit\; font-size: inherit\;">\, 2016</span></div>\n\n<p>Doors: 7:00 PM&nbsp\;<br />\nShow: 8:00 PM</p>\n\n<p>All Ages</p>\n\n<div>$5 - $15</div>\n
LOCATION:
UID:e.526.3288
SEQUENCE:3
DTSTAMP:20260422T153608Z
URL:https://business.epcc.org/events/details/limelight-eventplex-presents-russell-dickerson-3288
END:VEVENT

END:VCALENDAR
