BEGIN:VCALENDAR
VERSION:2.0
PRODID:-//ChamberMaster//Event Calendar 2.0//EN
METHOD:PUBLISH
X-PUBLISHED-TTL:P3D
REFRESH-INTERVAL:P3D
CALSCALE:GREGORIAN
BEGIN:VEVENT
DTSTART:20180820T134500Z
DTEND:20180820T143000Z
X-MICROSOFT-CDO-ALLDAYEVENT:FALSE
SUMMARY:Lincoln School 100 Caring Adults
DESCRIPTION:Please join Lincoln staff and students on August 20 as they head into a new school year. 100 CARING ADULTS will cheer on staff and students as they head from the gym to their classrooms for the first time of the 18/19 school year. Please help us show our Lincoln Lions that their community cares about their success and is behind them!
X-ALT-DESC;FMTTYPE=text/html:Please join Lincoln staff and students on August 20 as they head into a new school year. 100 CARING ADULTS will cheer on staff and students as they head from the gym to their classrooms for the first time of the 18/19 school year. Please help us show our Lincoln Lions that their community cares about their success and is behind them!
LOCATION:Lincoln Elementary School
UID:e.526.5576
SEQUENCE:3
DTSTAMP:20260421T070049Z
URL:https://business.epcc.org/events/details/lincoln-school-100-caring-adults-5576
END:VEVENT

END:VCALENDAR
