BEGIN:VCALENDAR
VERSION:2.0
PRODID:-//ChamberMaster//Event Calendar 2.0//EN
METHOD:PUBLISH
X-PUBLISHED-TTL:P3D
REFRESH-INTERVAL:P3D
CALSCALE:GREGORIAN
BEGIN:VEVENT
DTSTART:20170505T230000Z
DTEND:20170506T040000Z
X-MICROSOFT-CDO-ALLDAYEVENT:FALSE
SUMMARY:Live Jazz with The Perilles Project
DESCRIPTION:Jazz Night with The Derel Monteith Trio   Join us in The Waterhouse's BROADWAY LOUNGE on the 1st floor of the MAXAM Building at 316 SW Washington Street for an art opening and live jazz with The Derel Monteith Trio. Show only tickets are just $11 a person. A reservation only/advance purchase dinner package is available at 6p for $36 plus tax\, and Appetizers/Desserts available from 7p   close! Show is at 8:00 pm. BroadwayPeoria.com or call 309-494-9100 to purchase seats.
X-ALT-DESC;FMTTYPE=text/html:<span style="color: black\;"><span style="font-family: arial\,sans-serif\;"><span style="font-size: 10.5pt\;">Jazz Night with The Derel Monteith Trio &ndash\; Join us in The Waterhouse&#39\;s BROADWAY LOUNGE on the 1st floor of the MAXAM Building at 316 SW Washington Street for an art opening and live jazz with The Derel Monteith Trio. Show only tickets are just $11 a person. A reservation only/advance purchase dinner package is available at 6p for $36 plus tax\, and Appetizers/Desserts available from 7p &ndash\; close! Show is at 8:00 pm. BroadwayPeoria.com or call 309-494-9100 to purchase seats.&nbsp\;</span></span></span>
LOCATION:The Waterhouse's BROADWAY LOUNGE on the 1st floor of the MAXAM Building at 316 SW Washington Street\, Peoria\, Illinois\, 61602
UID:e.526.4304
SEQUENCE:3
DTSTAMP:20260422T083209Z
URL:https://business.epcc.org/events/details/live-jazz-with-the-perilles-project-05-05-2017-4304
END:VEVENT

END:VCALENDAR
