BEGIN:VCALENDAR
VERSION:2.0
PRODID:-//ChamberMaster//Event Calendar 2.0//EN
METHOD:PUBLISH
X-PUBLISHED-TTL:P3D
REFRESH-INTERVAL:P3D
CALSCALE:GREGORIAN
BEGIN:VEVENT
DTSTART:20170624T130000Z
DTEND:20170624T180000Z
X-MICROSOFT-CDO-ALLDAYEVENT:FALSE
SUMMARY:Live Mural Painting
DESCRIPTION:Painter Ard Doko of the Netherlands will be painting live outside the C.T. Gabbert Showroom! Other potters\, sculptors\, and painters will also be in attendance creating and selling work.
X-ALT-DESC;FMTTYPE=text/html:Painter Ard Doko of the Netherlands will be painting live outside the C.T. Gabbert Showroom! Other potters\, sculptors\, and painters will also be in attendance creating and selling work.
LOCATION:C.T. Gabbert Art Park 1323 SW Adams Street Peoria\, IL 61602
UID:e.526.4357
SEQUENCE:3
DTSTAMP:20260422T082841Z
URL:https://business.epcc.org/events/details/live-mural-painting-4357
END:VEVENT

END:VCALENDAR
