BEGIN:VCALENDAR
VERSION:2.0
PRODID:-//ChamberMaster//Event Calendar 2.0//EN
METHOD:PUBLISH
X-PUBLISHED-TTL:P3D
REFRESH-INTERVAL:P3D
CALSCALE:GREGORIAN
BEGIN:VEVENT
DTSTART:20190322T160000Z
DTEND:20190322T183000Z
X-MICROSOFT-CDO-ALLDAYEVENT:FALSE
SUMMARY:Lowe's All Pro Event Lunch
DESCRIPTION:Lowe's All Pro Event Lunch\n\n\n\nMeet our new Pro Supervisor on Friday March 22\, 2019 from 11:00 am to 1:30 pm\, Located in the lumber area.\n\n\n\nCheck out what we have to offer Pro's like you!
X-ALT-DESC;FMTTYPE=text/html:Lowe&#39\;s All Pro Event Lunch<br />\n<br />\nMeet our new Pro Supervisor on Friday March 22\, 2019 from 11:00 am to 1:30 pm\, Located in the lumber area.<br />\n<br />\nCheck out what we have to offer Pro&#39\;s like you!
LOCATION:Lowe's East Peoria 201 Riverside Drive East Peoria\, IL 61611 (309) 694-0774
UID:e.526.5984
SEQUENCE:3
DTSTAMP:20260420T201553Z
URL:https://business.epcc.org/events/details/lowe-s-all-pro-event-lunch-5984
END:VEVENT

END:VCALENDAR
