BEGIN:VCALENDAR
VERSION:2.0
PRODID:-//ChamberMaster//Event Calendar 2.0//EN
METHOD:PUBLISH
X-PUBLISHED-TTL:P3D
REFRESH-INTERVAL:P3D
CALSCALE:GREGORIAN
BEGIN:VEVENT
DTSTART:20180928T160000Z
DTEND:20180928T183000Z
X-MICROSOFT-CDO-ALLDAYEVENT:FALSE
SUMMARY:Lowe's Commercial Appreciation Lunch
DESCRIPTION:Lowe's Commercial Appreciation Lunch\n\n201 Riverside Drive\n\nEast Peoria\, IL 61611\n\n11:00 am to 1:30 pm\n\nLowe's will have Vendors\, Demonstrations and a BBQ Pulled Pork Sandwich and Sides available at the front of the store.
X-ALT-DESC;FMTTYPE=text/html:Lowe&#39\;s Commercial Appreciation Lunch<br />\n201 Riverside Drive<br />\nEast Peoria\, IL 61611<br />\n11:00 am to 1:30 pm<br />\nLowe&#39\;s will have Vendors\, Demonstrations and a BBQ Pulled Pork Sandwich and Sides available at the front of the store.
LOCATION:
UID:e.526.5625
SEQUENCE:3
DTSTAMP:20260421T052734Z
URL:https://business.epcc.org/events/details/lowe-s-commercial-appreciation-lunch-5625
END:VEVENT

END:VCALENDAR
