BEGIN:VCALENDAR
VERSION:2.0
PRODID:-//ChamberMaster//Event Calendar 2.0//EN
METHOD:PUBLISH
X-PUBLISHED-TTL:P3D
REFRESH-INTERVAL:P3D
CALSCALE:GREGORIAN
BEGIN:VEVENT
DTSTART:20190716T110000Z
DTEND:20190720T030000Z
X-MICROSOFT-CDO-ALLDAYEVENT:FALSE
SUMMARY:Lowe's Pro Appreciation Days
DESCRIPTION:Pro Bonus Days\n\nJuly 16 through July 19.\n\nBreakfast served Thursday July 18\, 7 AM - 10 AM.\n\nLowe's Business Credit Customers - 10% off all purchases.\n\nnon-Lowe's Business Credit Customers - 5% off all purchases.\n\n\n\nSee the Pro Desk for more details.
X-ALT-DESC;FMTTYPE=text/html:Pro Bonus Days<br />\nJuly 16 through July 19.<br />\nBreakfast served Thursday July 18\, 7 AM - 10 AM.<br />\nLowe&#39\;s Business Credit Customers - 10% off all purchases.<br />\nnon-Lowe&#39\;s Business Credit Customers - 5% off all purchases.<br />\n<br />\nSee the Pro Desk for more details.
LOCATION:
UID:e.526.6106
SEQUENCE:3
DTSTAMP:20260420T140156Z
URL:https://business.epcc.org/events/details/lowe-s-pro-appreciation-days-6106
END:VEVENT

END:VCALENDAR
