BEGIN:VCALENDAR
VERSION:2.0
PRODID:-//ChamberMaster//Event Calendar 2.0//EN
METHOD:PUBLISH
X-PUBLISHED-TTL:P3D
REFRESH-INTERVAL:P3D
CALSCALE:GREGORIAN
BEGIN:VEVENT
DTSTART;VALUE=DATE:20190226
DTEND;VALUE=DATE:20190301
TRANSP:TRANSPARENT
X-MICROSOFT-CDO-ALLDAYEVENT:TRUE
SUMMARY:Lowe's Pro Exclusive Savings Event
DESCRIPTION:All Lowe's Business accounts will receive 10% off purchases. Exclusions apply.
X-ALT-DESC;FMTTYPE=text/html:All Lowe&#39\;s Business accounts will receive 10% off purchases. Exclusions apply.
LOCATION:201 Riverside Drive East Peoria\, IL 61611
UID:e.526.5972
SEQUENCE:3
DTSTAMP:20260420T214015Z
URL:https://business.epcc.org/events/details/lowe-s-pro-exclusive-savings-event-5972
END:VEVENT

END:VCALENDAR
