BEGIN:VCALENDAR
VERSION:2.0
PRODID:-//ChamberMaster//Event Calendar 2.0//EN
METHOD:PUBLISH
X-PUBLISHED-TTL:P3D
REFRESH-INTERVAL:P3D
CALSCALE:GREGORIAN
BEGIN:VEVENT
DTSTART:20180404T150000Z
DTEND:20180404T180000Z
X-MICROSOFT-CDO-ALLDAYEVENT:FALSE
SUMMARY:LPN Job Fair
DESCRIPTION:Come check out our LPN Job Fair.  We're hiring exceptional full and part-time LPNs.  If you like beng a nurse\, you'll love working here.  Our residents are at the center.  We make everything revolve around them.  Do you want to make someone's day remarkable each day you work?  Stop by for an interview\, we'd love to meet you.  Wednesday\, April 4th between 10am-1pm or 4pm-6pm.  Serenity Assisted Living & Memory Care 4000 N. Main St.\, East Peoria.  (309) 222-2424.
X-ALT-DESC;FMTTYPE=text/html:Come check out our LPN Job Fair.&nbsp\; We're hiring exceptional full and part-time LPNs.&nbsp\; If you like beng a nurse\, you'll love working here.&nbsp\; Our residents are at the center.&nbsp\; We make everything revolve around them.&nbsp\; Do you want to make someone's day remarkable each day you work?&nbsp\; Stop by for an interview\, we'd love to meet you.&nbsp\; Wednesday\, April 4th between 10am-1pm or 4pm-6pm.&nbsp\; Serenity Assisted Living &amp\; Memory Care 4000 N. Main St.\, East Peoria.&nbsp\; (309) 222-2424.
LOCATION:Serenity Assisted Living & Memory Care 4000 N. Main St.\, East Peoria (309) 222-2424
UID:e.526.5464
SEQUENCE:3
DTSTAMP:20260421T165958Z
URL:https://business.epcc.org/events/details/lpn-job-fair-5464
END:VEVENT

END:VCALENDAR
