BEGIN:VCALENDAR
VERSION:2.0
PRODID:-//ChamberMaster//Event Calendar 2.0//EN
METHOD:PUBLISH
X-PUBLISHED-TTL:P3D
REFRESH-INTERVAL:P3D
CALSCALE:GREGORIAN
BEGIN:VEVENT
DTSTART:20160318T150000Z
DTEND:20160318T160000Z
X-MICROSOFT-CDO-ALLDAYEVENT:FALSE
SUMMARY:Making the Most of Job Fairs - for Veterans
DESCRIPTION:Learn how to navigate job fairs\, create a plan of action to make the best use of your time\, and how to approach employers.
X-ALT-DESC;FMTTYPE=text/html:Learn how to navigate job fairs\, create a plan of action to make the best use of your time\, and how to approach employers.
LOCATION:Goodwill Commons at 2319 E. War Memorial Dr.\, Peoria\, IL 61614
UID:e.526.3047
SEQUENCE:3
DTSTAMP:20260424T150911Z
URL:https://business.epcc.org/events/details/making-the-most-of-job-fairs-for-veterans-03-18-2016-3047
END:VEVENT

END:VCALENDAR
