BEGIN:VCALENDAR
VERSION:2.0
PRODID:-//ChamberMaster//Event Calendar 2.0//EN
METHOD:PUBLISH
X-PUBLISHED-TTL:P3D
REFRESH-INTERVAL:P3D
CALSCALE:GREGORIAN
BEGIN:VEVENT
DTSTART:20150601T150000Z
DTEND:20150601T170000Z
X-MICROSOFT-CDO-ALLDAYEVENT:FALSE
SUMMARY:Making the Most of Job Fairs Workshop
DESCRIPTION:Learn how to navigate job fairs\, make the best use of your time and how to approach employers.
X-ALT-DESC;FMTTYPE=text/html:Learn how to navigate job fairs\, make the best use of your time and how to approach employers.
LOCATION:Goodwill Commons 2319 E. War Memorial Drive Peoria IL 61614
UID:e.526.1683
SEQUENCE:3
DTSTAMP:20260425T032336Z
URL:https://business.epcc.org/events/details/making-the-most-of-job-fairs-workshop-06-01-2015-1683
END:VEVENT

END:VCALENDAR
