BEGIN:VCALENDAR
VERSION:2.0
PRODID:-//ChamberMaster//Event Calendar 2.0//EN
METHOD:PUBLISH
X-PUBLISHED-TTL:P3D
REFRESH-INTERVAL:P3D
CALSCALE:GREGORIAN
BEGIN:VEVENT
DTSTART:20150724T150000Z
DTEND:20150724T170000Z
X-MICROSOFT-CDO-ALLDAYEVENT:FALSE
SUMMARY:Making the Most of Job Fairs Workshop
DESCRIPTION:Learn how to navigate job fairs\, create a plan of action to make the best use of your time and how to approach employers.
X-ALT-DESC;FMTTYPE=text/html:Learn how to navigate job fairs\, create a plan of action to make the best use of your time and how to approach employers.
LOCATION:Goodwill Commons 2319 E. War Memorial Dr. Peoria\, IL 61614
UID:e.526.1695
SEQUENCE:3
DTSTAMP:20260425T020108Z
URL:https://business.epcc.org/events/details/making-the-most-of-job-fairs-workshop-07-24-2015-1695
END:VEVENT

END:VCALENDAR
