BEGIN:VCALENDAR
VERSION:2.0
PRODID:-//ChamberMaster//Event Calendar 2.0//EN
METHOD:PUBLISH
X-PUBLISHED-TTL:P3D
REFRESH-INTERVAL:P3D
CALSCALE:GREGORIAN
BEGIN:VEVENT
DTSTART:20231103T210000Z
DTEND:20231103T223000Z
X-MICROSOFT-CDO-ALLDAYEVENT:FALSE
SUMMARY:Meet the Turner Center Team
DESCRIPTION:Meet the team! The Turner Center for Entrepreneurship at Bradley University team. Join us during our casual open house to be introduced to and meet with the business advisors who make up the Illinois Small Business Development Center (SBDC)\, Illinois SBDC International Trade Center (ITC)\, and APEX Accelerator   we are YOUR BEST NEXT STEP!\n\n \n\nLight snacks and refreshments will be provided.\n\n \n\nTopics covered:\n\n \n\n	Who/What is the Illinois Small Business Development Center?\n	Who/What is the Illinois SBDC International Trade Center?\n	Who/What is an APEX Accelerator?\n	Who do we serve?\n	How do YOU become a client?\n	How are we funded? \n\n \n\nWho should attend?\n\n \n\n	Aspiring entrepreneurs who have not yet decided on an industry or business concept.\n	Existing business owners seeking opportunities or facing challenges with their small business.\n	Existing business owners interested in exploring government contracting or exporting their products.\n	Anyone looking to develop their social media strategy.\n	Entrepreneurs curious about trademarks\, copyrights\, and patents.\n\n \n\nDon't miss this opportunity to: \n\n\n	Learn about the support network for entrepreneurs in the Heart of Illinois.\n	Meet other entrepreneurs\n	Engage with the team of expert business advisors driving the Turner Center for Entrepreneurship. \n\n \n\n \n\nCo-Sponsor: PeoriaNEXT Innovation Center
X-ALT-DESC;FMTTYPE=text/html:<span style="color:#222222"><span style="font-family:times new roman\,serif">Meet the team! The Turner Center for Entrepreneurship at Bradley University team. Join us during our casual open house to be introduced to and meet with the business advisors who make up the Illinois Small Business Development Center (SBDC)\, Illinois SBDC International Trade Center (ITC)\, and APEX Accelerator &ndash\; we are YOUR <strong>BEST NEXT</strong> STEP!</span></span><br />\n&nbsp\;<br />\n<span style="color:#222222"><span style="font-family:times new roman\,serif">Light snacks and refreshments will be provided.</span></span><br />\n&nbsp\;<br />\n<span style="color:#222222"><span style="font-family:times new roman\,serif">Topics covered:</span></span><br />\n&nbsp\;\n<ul>\n	<li><span style="color:#222222"><span style="font-family:times new roman\,serif">Who/What is the Illinois Small Business Development Center?</span></span></li>\n	<li><span style="color:#222222"><span style="font-family:times new roman\,serif">Who/What is the Illinois SBDC International Trade Center?</span></span></li>\n	<li><span style="color:#222222"><span style="font-family:times new roman\,serif">Who/What is an APEX Accelerator?</span></span></li>\n	<li><span style="color:#222222"><span style="font-family:times new roman\,serif">Who do we serve?</span></span></li>\n	<li><span style="color:#222222"><span style="font-family:times new roman\,serif">How do YOU become a client?</span></span></li>\n	<li><span style="color:#222222"><span style="font-family:times new roman\,serif">How are we funded? </span></span></li>\n</ul>\n&nbsp\;<br />\n<span style="color:#222222"><span style="font-family:times new roman\,serif">Who should attend?</span></span><br />\n&nbsp\;\n<ul>\n	<li><span style="color:#222222"><span style="font-family:times new roman\,serif">Aspiring entrepreneurs who have not yet decided on an industry or business concept.</span></span></li>\n	<li><span style="color:#222222"><span style="font-family:times new roman\,serif">Existing business owners seeking opportunities or facing challenges with their small business.</span></span></li>\n	<li><span style="color:#222222"><span style="font-family:times new roman\,serif">Existing business owners interested in exploring government contracting or exporting their products.</span></span></li>\n	<li><span style="color:#222222"><span style="font-family:times new roman\,serif">Anyone looking to develop their social media strategy.</span></span></li>\n	<li><span style="color:#222222"><span style="font-family:times new roman\,serif">Entrepreneurs curious about trademarks\, copyrights\, and patents.</span></span></li>\n</ul>\n&nbsp\;<br />\n<span style="color:#222222"><span style="font-family:times new roman\,serif">Don&rsquo\;t miss this opportunity to: </span></span>\n\n<ul>\n	<li><span style="color:#222222"><span style="font-family:times new roman\,serif">Learn about the support network for entrepreneurs in the Heart of Illinois.</span></span></li>\n	<li><span style="color:#222222"><span style="font-family:times new roman\,serif">Meet other entrepreneurs</span></span></li>\n	<li><span style="color:#222222"><span style="font-family:times new roman\,serif">Engage with the team of expert business advisors driving the Turner Center for Entrepreneurship. </span></span></li>\n</ul>\n&nbsp\;<br />\n&nbsp\;<br />\n<span style="font-family:times new roman\,serif">Co-Sponsor: PeoriaNEXT Innovation Center</span>
LOCATION:Peoria NEXT Innovation Center 801 W Main Street Peoria IL 61606
UID:e.526.7352
SEQUENCE:3
DTSTAMP:20260422T062231Z
URL:https://business.epcc.org/events/details/meet-the-turner-center-team-7352
END:VEVENT

END:VCALENDAR
