BEGIN:VCALENDAR
VERSION:2.0
PRODID:-//ChamberMaster//Event Calendar 2.0//EN
METHOD:PUBLISH
X-PUBLISHED-TTL:P3D
REFRESH-INTERVAL:P3D
CALSCALE:GREGORIAN
BEGIN:VEVENT
DTSTART:20150824T223000Z
DTEND:20150825T003000Z
X-MICROSOFT-CDO-ALLDAYEVENT:FALSE
SUMMARY:Microsoft Word 2010 Class
DESCRIPTION:An introductory class for students wanting to expand their skills in the Word program. Designed to provide you with the basic computer skills needed in today's job market. This two-week class meets Monday thru Thursday at 5:30 - 7:30 p.m. starting August 24.
X-ALT-DESC;FMTTYPE=text/html:An introductory class for students wanting to expand their skills in the Word program. Designed to provide you with the basic computer skills needed in today&#39\;s job market. This two-week class meets Monday thru Thursday at 5:30 - 7:30 p.m. starting August 24.
LOCATION:Goodwill Commons 2319 E. War Memorial Dr. Peoria\, IL 61614
UID:e.526.1722
SEQUENCE:3
DTSTAMP:20260425T002749Z
URL:https://business.epcc.org/events/details/microsoft-word-2010-class-08-24-2015-1722
END:VEVENT

END:VCALENDAR
