BEGIN:VCALENDAR
VERSION:2.0
PRODID:-//ChamberMaster//Event Calendar 2.0//EN
METHOD:PUBLISH
X-PUBLISHED-TTL:P3D
REFRESH-INTERVAL:P3D
CALSCALE:GREGORIAN
BEGIN:VEVENT
DTSTART:20181107T010000Z
DTEND:20181107T040000Z
X-MICROSOFT-CDO-ALLDAYEVENT:FALSE
SUMMARY:Mike Unes Election Night Party
DESCRIPTION:
X-ALT-DESC;FMTTYPE=text/html:
LOCATION:
UID:e.526.5649
SEQUENCE:3
DTSTAMP:20260421T022352Z
URL:https://business.epcc.org/events/details/mike-unes-election-night-party-5649
END:VEVENT

END:VCALENDAR
