BEGIN:VCALENDAR
VERSION:2.0
PRODID:-//ChamberMaster//Event Calendar 2.0//EN
METHOD:PUBLISH
X-PUBLISHED-TTL:P3D
REFRESH-INTERVAL:P3D
CALSCALE:GREGORIAN
BEGIN:VEVENT
DTSTART:20190329T130000Z
DTEND:20190329T140000Z
X-MICROSOFT-CDO-ALLDAYEVENT:FALSE
SUMMARY:Modernizing Your Marketing Campaign
DESCRIPTION:Digital seminar to cover mobile\, video\, and social strategies hosted by the Peoria and East Peoria Chambers of Commerce\, and presented by Journal Star Media.
X-ALT-DESC;FMTTYPE=text/html:Digital seminar to cover mobile\, video\, and social strategies hosted by the Peoria and East Peoria Chambers of Commerce\, and presented by Journal Star Media.
LOCATION:Clock Tower Building Fondulac Room (Room 201) 201 Clock Tower Dr. East Peoria\, IL 61611
UID:e.526.5981
SEQUENCE:3
DTSTAMP:20260420T213524Z
URL:https://business.epcc.org/events/details/modernizing-your-marketing-campaign-5981
END:VEVENT

END:VCALENDAR
