BEGIN:VCALENDAR
VERSION:2.0
PRODID:-//ChamberMaster//Event Calendar 2.0//EN
METHOD:PUBLISH
X-PUBLISHED-TTL:P3D
REFRESH-INTERVAL:P3D
CALSCALE:GREGORIAN
BEGIN:VEVENT
DTSTART:20171028T120000Z
DTEND:20171028T170000Z
X-MICROSOFT-CDO-ALLDAYEVENT:FALSE
SUMMARY:Moms Who Care 5K Run or 1 mile Walk
DESCRIPTION:Moms Who Care 5K Run or 1 mile Walk\n\nCheck in & Registration at 7:00 a.m.\n\nRace Begins at 8:00 a.m.\n\nT-shirt orders guaranteed if registration is received by October 13th.\n\nRegistration page\n\n\n\nProceeds donated to the Moms Who Care organization located at the East Peoria Community High School. Check out their Facebook page for more information http://www.facebook.com/MomsWhoCarePublicPage/.
X-ALT-DESC;FMTTYPE=text/html:Moms Who Care 5K Run&nbsp\;or 1 mile&nbsp\;Walk<br />\nCheck in &amp\; Registration at 7:00 a.m.<br />\nRace Begins at 8:00 a.m.<br />\nT-shirt orders guaranteed if registration is received by&nbsp\;October 13th.<br />\n<a href="https://chambermaster.blob.core.windows.net/userfiles/UserFiles/chambers/526/File/2016MomsRaceform.pdf"><font color="#0066cc">Registration page</font></a><br />\n<br />\nProceeds&nbsp\;donated to the Moms Who Care organization located at the East Peoria Community High School. Check out their Facebook page for more information <a href="http://www.facebook.com/MomsWhoCarePublicPage/">http://www.facebook.com/MomsWhoCarePublicPage/</a>.
LOCATION:East Peoria Levee District East Peoria\, IL
UID:e.526.4406
SEQUENCE:3
DTSTAMP:20260422T014222Z
URL:https://business.epcc.org/events/details/moms-who-care-5k-run-or-1-mile-walk-4406
END:VEVENT

END:VCALENDAR
