BEGIN:VCALENDAR
VERSION:2.0
PRODID:-//ChamberMaster//Event Calendar 2.0//EN
METHOD:PUBLISH
X-PUBLISHED-TTL:P3D
REFRESH-INTERVAL:P3D
CALSCALE:GREGORIAN
BEGIN:VEVENT
DTSTART:20140927T120000Z
DTEND:20140927T170000Z
X-MICROSOFT-CDO-ALLDAYEVENT:FALSE
SUMMARY:Moms Who Care 5K Run + Walk
DESCRIPTION:Moms Who Care 5K Run + Walk\n\nCheck in & Registration at 7:00 a.m.\n\nRace Begins at 8:00 a.m.\n\nT-shirt orders guaranteed if registration is received by September 16th.
X-ALT-DESC;FMTTYPE=text/html:Moms Who Care 5K Run + Walk<br />\nCheck in &amp\; Registration at 7:00 a.m.<br />\nRace Begins at 8:00 a.m.<br />\nT-shirt orders guaranteed if registration is received by September 16th.
LOCATION:East Peoria Levee District East Peoria\, IL
UID:e.526.1162
SEQUENCE:3
DTSTAMP:20260425T173235Z
URL:https://business.epcc.org/events/details/moms-who-care-5k-run-walk-09-27-2014-1162
END:VEVENT

END:VCALENDAR
