BEGIN:VCALENDAR
VERSION:2.0
PRODID:-//ChamberMaster//Event Calendar 2.0//EN
METHOD:PUBLISH
X-PUBLISHED-TTL:P3D
REFRESH-INTERVAL:P3D
CALSCALE:GREGORIAN
BEGIN:VEVENT
DTSTART:20180929T120000Z
DTEND:20180929T160000Z
X-MICROSOFT-CDO-ALLDAYEVENT:FALSE
SUMMARY:Moms Who Care Walk
DESCRIPTION:Click here to register for the Moms Who Care Walk! Participate in a 1\, 2\, or 3 mile walk along the East Peoria trail to benefit East Peoria Community High School's Moms Who Care.\n\n\n\nRegister by September 15 to submit T-shirt orders. Entry is $25 for ages 19+ / $15 for ages 18 and under
X-ALT-DESC;FMTTYPE=text/html:<a href="https://docs.wixstatic.com/ugd/b96ef0_c946ff7df07947d7838a931bbfa1240c.pdf">Click here</a>&nbsp\;to register for the Moms Who Care Walk! Participate in a 1\, 2\, or 3 mile walk along the East Peoria trail to benefit East Peoria Community High School&#39\;s Moms Who Care.<br />\n<br />\nRegister by September 15 to submit T-shirt orders. Entry is $25 for ages 19+ / $15 for ages 18 and under
LOCATION:East Peoria City Building\, 401 W. Washington St.\, East Peoria
UID:e.526.5615
SEQUENCE:3
DTSTAMP:20260421T052735Z
URL:https://business.epcc.org/events/details/moms-who-care-walk-5615
END:VEVENT

END:VCALENDAR
