BEGIN:VCALENDAR
VERSION:2.0
PRODID:-//ChamberMaster//Event Calendar 2.0//EN
METHOD:PUBLISH
X-PUBLISHED-TTL:P3D
REFRESH-INTERVAL:P3D
CALSCALE:GREGORIAN
BEGIN:VEVENT
DTSTART:20191024T213000Z
DTEND:20191024T230000Z
X-MICROSOFT-CDO-ALLDAYEVENT:FALSE
SUMMARY:Morton Chamber of Commerce Business After Hours
DESCRIPTION:Join us for October's Business After Hours\, hosted by Menold Construction & Restoration!\n\nConnect with other business professionals and community members while enjoying refreshments. Learn all about the services they provide and meet their friendly team! \n\nA brief program will be held at 5:15 pm.\n\nOpen to the public!  Everyone is invited!
X-ALT-DESC;FMTTYPE=text/html:<span style="color: rgb(75\, 79\, 86)\; font-family: Helvetica\, Arial\, sans-serif\; font-size: 14px\;">Join us&nbsp\;for October&#39\;s Business After Hours\, hosted by Menold Construction &amp\; Restoration!</span><br style="box-sizing: border-box\; color: rgb(75\, 79\, 86)\; font-family: Helvetica\, Arial\, sans-serif\; font-size: 14px\;" />\n<span style="color: rgb(75\, 79\, 86)\; font-family: Helvetica\, Arial\, sans-serif\; font-size: 14px\;">Connect with other business professionals and community members while enjoying refreshments. Learn all about the services they provide and meet their friendly team!&nbsp\;</span><br style="box-sizing: border-box\; color: rgb(75\, 79\, 86)\; font-family: Helvetica\, Arial\, sans-serif\; font-size: 14px\;" />\n<span style="color: rgb(75\, 79\, 86)\; font-family: Helvetica\, Arial\, sans-serif\; font-size: 14px\;">A brief program will be held at 5:15 pm.</span><br style="box-sizing: border-box\; color: rgb(75\, 79\, 86)\; font-family: Helvetica\, Arial\, sans-serif\; font-size: 14px\;" />\n<span style="color: rgb(75\, 79\, 86)\; font-family: Helvetica\, Arial\, sans-serif\; font-size: 14px\;">Open to the public!&nbsp\; Everyone is invited!&nbsp\;</span>
LOCATION:Menold Construction & Restoration 880 W. Jefferson St. Morton\, IL
UID:e.526.6238
SEQUENCE:3
DTSTAMP:20260420T111117Z
URL:https://business.epcc.org/events/details/morton-chamber-of-commerce-business-after-hours-6238
END:VEVENT

END:VCALENDAR
