BEGIN:VCALENDAR
VERSION:2.0
PRODID:-//ChamberMaster//Event Calendar 2.0//EN
METHOD:PUBLISH
X-PUBLISHED-TTL:P3D
REFRESH-INTERVAL:P3D
CALSCALE:GREGORIAN
BEGIN:VEVENT
DTSTART:20160508T130000Z
DTEND:20160508T200000Z
X-MICROSOFT-CDO-ALLDAYEVENT:FALSE
SUMMARY:Mother's Day Brunch
DESCRIPTION:Treat the special lady in your life to a fresh made\, chef created brunch!
X-ALT-DESC;FMTTYPE=text/html:Treat the special lady in your life to a fresh made\, chef created brunch!
LOCATION:Granite City Food & Brewery
UID:e.526.3061
SEQUENCE:3
DTSTAMP:20260424T135040Z
URL:https://business.epcc.org/events/details/mother-s-day-brunch-05-08-2016-3061
END:VEVENT

END:VCALENDAR
