BEGIN:VCALENDAR
VERSION:2.0
PRODID:-//ChamberMaster//Event Calendar 2.0//EN
METHOD:PUBLISH
X-PUBLISHED-TTL:P3D
REFRESH-INTERVAL:P3D
CALSCALE:GREGORIAN
BEGIN:VEVENT
DTSTART:20220507T150000Z
DTEND:20220507T200000Z
X-MICROSOFT-CDO-ALLDAYEVENT:FALSE
SUMMARY:Mother's Day Shopping Event at The Pickers Daughter
DESCRIPTION:Let us help you pick that perfect gift for your Mother\, Grandma\, Sister\, Daughter\, Friend\, Aunt or....yourself! We have so many options to choose from...jewelry\, candles\, boutique clothing\, Myra Bags\, decor...endless possibilities! Make it a fun shopping day with the girls and treat yourself to lunch next door at The Emerald Tea Room! We will have drawings\, sales and specials all day just for you!
X-ALT-DESC;FMTTYPE=text/html:<span style="color: rgb(5\, 5\, 5)\; font-family: &quot\;Segoe UI Historic&quot\;\, &quot\;Segoe UI&quot\;\, Helvetica\, Arial\, sans-serif\; font-size: 15px\;">Let us help you pick that perfect gift for your Mother\, Grandma\, Sister\, Daughter\, Friend\, Aunt or....yourself! We have so many options to choose from...jewelry\, candles\, boutique clothing\, Myra Bags\, decor...endless possibilities! Make it a fun shopping day with the girls and treat yourself to lunch next door at The Emerald Tea Room! We will have drawings\, sales and specials all day just for you!</span>
LOCATION:
UID:e.526.6996
SEQUENCE:3
DTSTAMP:20260422T062743Z
URL:https://business.epcc.org/events/details/mother-s-day-shopping-event-at-the-pickers-daughter-6996
END:VEVENT

END:VCALENDAR
