BEGIN:VCALENDAR
VERSION:2.0
PRODID:-//ChamberMaster//Event Calendar 2.0//EN
METHOD:PUBLISH
X-PUBLISHED-TTL:P3D
REFRESH-INTERVAL:P3D
CALSCALE:GREGORIAN
BEGIN:VEVENT
DTSTART:20230513T160000Z
DTEND:20230513T210000Z
X-MICROSOFT-CDO-ALLDAYEVENT:FALSE
SUMMARY:Mother's Day Shopping Event at The Pickers Daughter
DESCRIPTION:FIVE SHOPS ARE TEAMING UP FOR THIS EVENT! Join The Pickers Daughter\, Vintique\, Sweet Accents\, Craftology & Relics and let us help you pick that perfect gift for your Mother\, Grandma\, Sister\, Daughter\, Friend\, Aunt or....yourself! We have so many options to choose from...jewelry\, candles\, boutique clothing\, Myra Bags\, decor\, candy\, vintage\, plants...endless possibilities! Make it a fun shopping day with the girls and treat yourself to lunch next door at The Emerald Tea Room! (Reservations suggested). We will be drawing one lucky winner to win a $25 gift certificate from each of the shops (The Pickers Daughter\, Vintique\, Sweet Accents\, Relics & Craftology)! That's $125 all together to spend at your favorite East Peoria Small Business Shops! There will be sales\, specials and great gift ideas all day just for you!\n\nThe Pickers Daughter will have popcorn samples from The Popcorn Shop\, Dip samples\, Door County Coffee samples and treats! Plus gift bags with goodies for the first 20 customers (with $20 minimum purchase)!\n\nSweet Accents will have sales\, be giving away carnations and Starbucks Coffee.\n\nVintique will have snacks and be giving away FIVE additional gift baskets! Every Mother will have a chance to draw when they visit the store...no purchase is required. Drawings will be done while in the shop.\n\nDon't miss out on this fun day!
X-ALT-DESC;FMTTYPE=text/html:<div class="x11i5rnm xat24cr x1mh8g0r x1vvkbs xdj266r" style="margin: 0px\; overflow-wrap: break-word\; font-family: &quot\;Segoe UI Historic&quot\;\, &quot\;Segoe UI&quot\;\, Helvetica\, Arial\, sans-serif\; color: rgb(5\, 5\, 5)\; font-size: 15px\;">FIVE SHOPS ARE TEAMING UP FOR THIS EVENT! Join The Pickers Daughter\, Vintique\, Sweet Accents\, Craftology &amp\; Relics and let us help you pick that perfect gift for your Mother\, Grandma\, Sister\, Daughter\, Friend\, Aunt or....yourself! We have so many options to choose from...jewelry\, candles\, boutique clothing\, Myra Bags\, decor\, candy\, vintage\, plants...endless possibilities! Make it a fun shopping day with the girls and treat yourself to lunch next door at The Emerald Tea Room! (Reservations suggested). We will be drawing one lucky winner to win a $25 gift certificate from each of the shops (The Pickers Daughter\, Vintique\, Sweet Accents\, Relics &amp\; Craftology)! That&#39\;s $125 all together to spend at your favorite East Peoria Small Business Shops! There will be sales\, specials and great gift ideas all day just for you!</div>\n\n<div class="x11i5rnm xat24cr x1mh8g0r x1vvkbs xtlvy1s" style="margin: 0.5em 0px 0px\; overflow-wrap: break-word\; font-family: &quot\;Segoe UI Historic&quot\;\, &quot\;Segoe UI&quot\;\, Helvetica\, Arial\, sans-serif\; color: rgb(5\, 5\, 5)\; font-size: 15px\;">The Pickers Daughter will have popcorn samples from The Popcorn Shop\, Dip samples\, Door County Coffee samples and treats! Plus gift bags with goodies for the first 20 customers (with $20 minimum purchase)!</div>\n\n<div class="x11i5rnm xat24cr x1mh8g0r x1vvkbs xtlvy1s" style="margin: 0.5em 0px 0px\; overflow-wrap: break-word\; font-family: &quot\;Segoe UI Historic&quot\;\, &quot\;Segoe UI&quot\;\, Helvetica\, Arial\, sans-serif\; color: rgb(5\, 5\, 5)\; font-size: 15px\;">Sweet Accents will have sales\, be giving away carnations and Starbucks Coffee.</div>\n\n<div class="x11i5rnm xat24cr x1mh8g0r x1vvkbs xtlvy1s" style="margin: 0.5em 0px 0px\; overflow-wrap: break-word\; font-family: &quot\;Segoe UI Historic&quot\;\, &quot\;Segoe UI&quot\;\, Helvetica\, Arial\, sans-serif\; color: rgb(5\, 5\, 5)\; font-size: 15px\;">Vintique will have snacks and be giving away FIVE additional gift baskets! Every Mother will have a chance to draw when they visit the store...no purchase is required. Drawings will be done while in the shop.</div>\n\n<div class="x11i5rnm xat24cr x1mh8g0r x1vvkbs xtlvy1s" style="margin: 0.5em 0px 0px\; overflow-wrap: break-word\; font-family: &quot\;Segoe UI Historic&quot\;\, &quot\;Segoe UI&quot\;\, Helvetica\, Arial\, sans-serif\; color: rgb(5\, 5\, 5)\; font-size: 15px\;">Don&#39\;t miss out on this fun day!&nbsp\;</div>\n
LOCATION:The Pickers Daughter 125 E Washington St East Peoria\, IL 61611
UID:e.526.7095
SEQUENCE:3
DTSTAMP:20260422T224923Z
URL:https://business.epcc.org/events/details/mother-s-day-shopping-event-at-the-pickers-daughter-7095
END:VEVENT

END:VCALENDAR
